BEGIN:VCALENDAR
VERSION:2.0
PRODID:-//Biblioteca Comunale di Monfalcone - ECPv6.15.20//NONSGML v1.0//EN
CALSCALE:GREGORIAN
METHOD:PUBLISH
X-WR-CALNAME:Biblioteca Comunale di Monfalcone
X-ORIGINAL-URL:https://bibliotecamonfalcone.it
X-WR-CALDESC:Eventi per Biblioteca Comunale di Monfalcone
REFRESH-INTERVAL;VALUE=DURATION:PT1H
X-Robots-Tag:noindex
X-PUBLISHED-TTL:PT1H
BEGIN:VTIMEZONE
TZID:Europe/Rome
BEGIN:DAYLIGHT
TZOFFSETFROM:+0100
TZOFFSETTO:+0200
TZNAME:CEST
DTSTART:20220327T010000
END:DAYLIGHT
BEGIN:STANDARD
TZOFFSETFROM:+0200
TZOFFSETTO:+0100
TZNAME:CET
DTSTART:20221030T010000
END:STANDARD
BEGIN:DAYLIGHT
TZOFFSETFROM:+0100
TZOFFSETTO:+0200
TZNAME:CEST
DTSTART:20230326T010000
END:DAYLIGHT
BEGIN:STANDARD
TZOFFSETFROM:+0200
TZOFFSETTO:+0100
TZNAME:CET
DTSTART:20231029T010000
END:STANDARD
BEGIN:DAYLIGHT
TZOFFSETFROM:+0100
TZOFFSETTO:+0200
TZNAME:CEST
DTSTART:20240331T010000
END:DAYLIGHT
BEGIN:STANDARD
TZOFFSETFROM:+0200
TZOFFSETTO:+0100
TZNAME:CET
DTSTART:20241027T010000
END:STANDARD
END:VTIMEZONE
BEGIN:VEVENT
DTSTART;TZID=Europe/Rome:20230210T180000
DTEND;TZID=Europe/Rome:20230210T180000
DTSTAMP:20260423T123647
CREATED:20230406T132916Z
LAST-MODIFIED:20230406T132949Z
UID:10000190-1676052000-1676052000@bibliotecamonfalcone.it
SUMMARY:Fulvio\, Norma\, Sergio\, Marisa. Quattro storie per ricordare
DESCRIPTION:In occasione del Giorno del Ricordo\, la Biblioteca comunale di Monfalcone organizza la serata di letture ad alta voce Fulvio\, Norma\, Sergio\, Marisa. Quattro storie per ricordare.\nAttraverso la vita e gli scritti di quattro testimoni delle drammatiche vicende delle foibe e dell’esodo\, ripercorriamo quelle tragiche pagine di storia contemporanea.\nFulvio Tomizza\, Norma Cossetto\, Sergio Endrigo\, Marisa Madieri: percorsi diversi\, diversi destini\, ma che affondano le radici nella stessa complessa storia del confine orientale. \nA dare voce alle più toccanti pagine sull’argomento\, i Lettori in Cantiere della Biblioteca comunale di Monfalcone\, che leggeranno brani tratti dai volumi Alle spalle di Trieste di Fulvio Tomizza\, Verde acqua di Marisa Madieri\, Sergio Endrigo\, mio padre. L’artista gentiluomo di Claudia Endrigo\, Foibe rosse di Frediano Sessi. \nL’appuntamento rientra nel format “Intrecci di storie”\, che nasce da due grandi passioni: quella per la letteratura e quella per la lettura ad alta voce. Le pubbliche letture che rientrano in questo contenitore sono tutte produzioni originali. Eventi d’occasione finalizzati a scoprire\, o riscoprire sotto un’altra luce\, autrici e autori\, oppure ad affrontare tematiche attraverso il filtro della letteratura.
URL:https://bibliotecamonfalcone.it/eventi/fulvio-norma-sergio-marisa-quattro-storie-per-ricordare/
CATEGORIES:Letture ad alta voce
ATTACH;FMTTYPE=image/jpeg:https://bibliotecamonfalcone.it/wp-content/uploads/2023/04/202329928450.Giorno-ricordo-2023-locandina.jpg
END:VEVENT
END:VCALENDAR