BEGIN:VCALENDAR
VERSION:2.0
PRODID:-//Biblioteca Comunale di Monfalcone - ECPv6.15.20//NONSGML v1.0//EN
CALSCALE:GREGORIAN
METHOD:PUBLISH
X-WR-CALNAME:Biblioteca Comunale di Monfalcone
X-ORIGINAL-URL:https://bibliotecamonfalcone.it
X-WR-CALDESC:Eventi per Biblioteca Comunale di Monfalcone
REFRESH-INTERVAL;VALUE=DURATION:PT1H
X-Robots-Tag:noindex
X-PUBLISHED-TTL:PT1H
BEGIN:VTIMEZONE
TZID:Europe/Rome
BEGIN:DAYLIGHT
TZOFFSETFROM:+0100
TZOFFSETTO:+0200
TZNAME:CEST
DTSTART:20240331T010000
END:DAYLIGHT
BEGIN:STANDARD
TZOFFSETFROM:+0200
TZOFFSETTO:+0100
TZNAME:CET
DTSTART:20241027T010000
END:STANDARD
BEGIN:DAYLIGHT
TZOFFSETFROM:+0100
TZOFFSETTO:+0200
TZNAME:CEST
DTSTART:20250330T010000
END:DAYLIGHT
BEGIN:STANDARD
TZOFFSETFROM:+0200
TZOFFSETTO:+0100
TZNAME:CET
DTSTART:20251026T010000
END:STANDARD
BEGIN:DAYLIGHT
TZOFFSETFROM:+0100
TZOFFSETTO:+0200
TZNAME:CEST
DTSTART:20260329T010000
END:DAYLIGHT
BEGIN:STANDARD
TZOFFSETFROM:+0200
TZOFFSETTO:+0100
TZNAME:CET
DTSTART:20261025T010000
END:STANDARD
END:VTIMEZONE
BEGIN:VEVENT
DTSTART;TZID=Europe/Rome:20250305T163000
DTEND;TZID=Europe/Rome:20250305T163000
DTSTAMP:20260426T031518
CREATED:20250314T140512Z
LAST-MODIFIED:20250314T140725Z
UID:10000857-1741192200-1741192200@bibliotecamonfalcone.it
SUMMARY:Storie per stare insieme in Biblioteca - Marzo 2025
DESCRIPTION:Nel mese di Monfalcone Geografie ci dedicheremo alla scoperta del nostro mondo attraverso letture e laboratori!\nGli appuntamenti di marzo saranno così strutturati: \n\nmercoledì 5 marzo alle 16.30 i grandiosi Lettori in Cantiere ci leggeranno delle storie e e faremo un laboratorio dedicato alla bellezza del nostro pianeta e dei suoi animali;\nmercoledì 12 marzo alle 16.30 anche qui i Lettori in Cantiere ci leggeranno delle storie e e faremo un laboratorio dedicato al mondo e alle piante;\nmercoledì 19 marzo alle 16.30 lo dedicheremo al Kamishibai\, il teatrino giapponese;\nmercoledì 26 marzo alle 16.30 le storie saranno raccontate dalle bravissime studentesse dell’ISIS “Sandro Pertini”.\n\nVi aspettiamo tutti i mercoledì di marzo dalle ore 16.30!
URL:https://bibliotecamonfalcone.it/eventi/storie-per-stare-insieme-in-biblioteca-marzo-2025/2025-03-05/
CATEGORIES:Letture ad alta voce
ATTACH;FMTTYPE=image/png:https://bibliotecamonfalcone.it/wp-content/uploads/2025/03/Screenshot-2025-03-14-alle-15.06.40.png
END:VEVENT
BEGIN:VEVENT
DTSTART;TZID=Europe/Rome:20250306T180000
DTEND;TZID=Europe/Rome:20250306T180000
DTSTAMP:20260426T031518
CREATED:20250217T083004Z
LAST-MODIFIED:20250217T083048Z
UID:10000853-1741284000-1741284000@bibliotecamonfalcone.it
SUMMARY:Dalla Cina al romance. Il viaggio letterario di una scrittrice
DESCRIPTION:Antonella Moretti ha vissuto oltre dieci anni in Cina\, un’esperienza che ha avuto un impatto significativo sulla sua scrittura e che l’ha portata a scrivere Prezzemolo e Cilantro. Il romanzo racconta le sfide e le esperienze di alcune donne italiane che si trasferiscono nel paese del Dragone\, dove si trovano ad affrontare un universo culturale affascinante e profondamente diverso dal proprio. Grazie alla traduzione in inglese e in cinese\, il libro ha raggiunto un pubblico internazionale\, contribuendo al dialogo interculturale. \nOriginaria di Trieste\, Antonella Moretti ha vissuto in Cina con il marito e i figli per più di dieci anni. Da questa esperienza sono nati due romanzi sul tema dell’espatrio e della vita delle donne italiane in Cina. Nel 2022 ha scelto di dedicarsi al genere del romanzo rosa\, anche conosciuto come romance\, pubblicando in self publishing\, con lo pseudonimo di Mimi Costalunga\, otto romanzi che hanno venduto migliaia di copie.
URL:https://bibliotecamonfalcone.it/eventi/dalla-cina-al-romance-il-viaggio-letterario-di-una-scrittrice/
CATEGORIES:Incontri
ATTACH;FMTTYPE=image/png:https://bibliotecamonfalcone.it/wp-content/uploads/2025/02/cartolina-Moretti.png
END:VEVENT
BEGIN:VEVENT
DTSTART;TZID=Europe/Rome:20250308T103000
DTEND;TZID=Europe/Rome:20250308T103000
DTSTAMP:20260426T031518
CREATED:20250314T142326Z
LAST-MODIFIED:20250324T084408Z
UID:10000861-1741429800-1741429800@bibliotecamonfalcone.it
SUMMARY:Storie per stare insieme in Biblioteca - Piccolissimi - Marzo 2025
DESCRIPTION:Cari genitori\, nonni e nonne dei più piccoli\, siete pronti a vivere una magica esperienza insieme ai vostri bimbi? \nSabato 8 marzo e sabato 22 marzo alle ore 10.30 i vostri piccoli potranno immergersi in storie colorate\, affascinanti e coinvolgenti\, grazie ai nostri invincibili Lettori in cantiere! \nVi aspettiamo in sala ragazzi! \nIngresso libero e gratuito.
URL:https://bibliotecamonfalcone.it/eventi/storie-per-stare-insieme-in-biblioteca-piccolissimi-marzo-2025/2025-03-08/
CATEGORIES:Letture ad alta voce
ATTACH;FMTTYPE=image/png:https://bibliotecamonfalcone.it/wp-content/uploads/2025/03/Screenshot-2025-03-14-alle-15.06.40.png
END:VEVENT
BEGIN:VEVENT
DTSTART;TZID=Europe/Rome:20250312T163000
DTEND;TZID=Europe/Rome:20250312T163000
DTSTAMP:20260426T031518
CREATED:20250314T140512Z
LAST-MODIFIED:20250314T140725Z
UID:10000858-1741797000-1741797000@bibliotecamonfalcone.it
SUMMARY:Storie per stare insieme in Biblioteca - Marzo 2025
DESCRIPTION:Nel mese di Monfalcone Geografie ci dedicheremo alla scoperta del nostro mondo attraverso letture e laboratori!\nGli appuntamenti di marzo saranno così strutturati: \n\nmercoledì 5 marzo alle 16.30 i grandiosi Lettori in Cantiere ci leggeranno delle storie e e faremo un laboratorio dedicato alla bellezza del nostro pianeta e dei suoi animali;\nmercoledì 12 marzo alle 16.30 anche qui i Lettori in Cantiere ci leggeranno delle storie e e faremo un laboratorio dedicato al mondo e alle piante;\nmercoledì 19 marzo alle 16.30 lo dedicheremo al Kamishibai\, il teatrino giapponese;\nmercoledì 26 marzo alle 16.30 le storie saranno raccontate dalle bravissime studentesse dell’ISIS “Sandro Pertini”.\n\nVi aspettiamo tutti i mercoledì di marzo dalle ore 16.30!
URL:https://bibliotecamonfalcone.it/eventi/storie-per-stare-insieme-in-biblioteca-marzo-2025/2025-03-12/
CATEGORIES:Letture ad alta voce
ATTACH;FMTTYPE=image/png:https://bibliotecamonfalcone.it/wp-content/uploads/2025/03/Screenshot-2025-03-14-alle-15.06.40.png
END:VEVENT
BEGIN:VEVENT
DTSTART;TZID=Europe/Rome:20250319T163000
DTEND;TZID=Europe/Rome:20250319T163000
DTSTAMP:20260426T031518
CREATED:20250314T140512Z
LAST-MODIFIED:20250314T140725Z
UID:10000859-1742401800-1742401800@bibliotecamonfalcone.it
SUMMARY:Storie per stare insieme in Biblioteca - Marzo 2025
DESCRIPTION:Nel mese di Monfalcone Geografie ci dedicheremo alla scoperta del nostro mondo attraverso letture e laboratori!\nGli appuntamenti di marzo saranno così strutturati: \n\nmercoledì 5 marzo alle 16.30 i grandiosi Lettori in Cantiere ci leggeranno delle storie e e faremo un laboratorio dedicato alla bellezza del nostro pianeta e dei suoi animali;\nmercoledì 12 marzo alle 16.30 anche qui i Lettori in Cantiere ci leggeranno delle storie e e faremo un laboratorio dedicato al mondo e alle piante;\nmercoledì 19 marzo alle 16.30 lo dedicheremo al Kamishibai\, il teatrino giapponese;\nmercoledì 26 marzo alle 16.30 le storie saranno raccontate dalle bravissime studentesse dell’ISIS “Sandro Pertini”.\n\nVi aspettiamo tutti i mercoledì di marzo dalle ore 16.30!
URL:https://bibliotecamonfalcone.it/eventi/storie-per-stare-insieme-in-biblioteca-marzo-2025/2025-03-19/
CATEGORIES:Letture ad alta voce
ATTACH;FMTTYPE=image/png:https://bibliotecamonfalcone.it/wp-content/uploads/2025/03/Screenshot-2025-03-14-alle-15.06.40.png
END:VEVENT
BEGIN:VEVENT
DTSTART;TZID=Europe/Rome:20250321T180000
DTEND;TZID=Europe/Rome:20250321T180000
DTSTAMP:20260426T031518
CREATED:20250310T124457Z
LAST-MODIFIED:20250310T124457Z
UID:10000855-1742580000-1742580000@bibliotecamonfalcone.it
SUMMARY:Lo sciamanesimo. Origini\, tradizioni\, prospettive
DESCRIPTION:Un volumetto di sintesi concepito come introduzione al mondo delle pratiche sciamaniche tradizionali e con lo scopo di liberare lo sciamanesimo tanto dai numerosi fraintendimenti accademici cui è stato sottoposto\, quanto dalle deformazioni new age con le quali oggi è superficialmente identificato. Attraverso brevi capitoli dedicati ai diversi aspetti dello sciamanesimo\, questo saggio traccia un percorso complessivo e lontano dagli stereotipi\, partendo dalle origini preistoriche e arrivando al mondo contemporaneo\, con un’attenzione particolare alle tracce di continuità millenaria e alle persistenze sciamaniche preistoriche presenti ancora oggi nelle nostre lingue e culture. Ne emerge un paesaggio complesso ma riconoscibile\, nato millenni prima delle recenti distinzioni tra naturale e soprannaturale\, tra corpo e mente\, tra sacro e profano. \nPoeta\, musicista\, filologo\, Francesco Benozzo è considerato uno dei più originali interpreti contemporanei dell’arpa celtica. Come filologo-linguista\, è il creatore dell’etnofilologia\, ed è noto per avere formulato la rivoluzionaria teoria che il linguaggio umano è nato già 3 milioni di anni fa\, con gli australopitechi. Come intellettuale anarchico lavora per la diffusione delle idee espresse attraverso quello che chiama “Quarto umanesimo”\, fondato su principi libertari e anti-autoritari. Dal 2015 è stabilmente candidato al Premio Nobel per la Letteratura con candidature rese pubbliche dal PEN International\, dalla Global Academy of Liberal Arts e dal Partnership Studies Group.
URL:https://bibliotecamonfalcone.it/eventi/lo-sciamanesimo-origini-tradizioni-prospettive/
CATEGORIES:Presentazioni
ATTACH;FMTTYPE=image/png:https://bibliotecamonfalcone.it/wp-content/uploads/2025/03/cartolina-Benozzo.png
END:VEVENT
BEGIN:VEVENT
DTSTART;TZID=Europe/Rome:20250322T103000
DTEND;TZID=Europe/Rome:20250322T103000
DTSTAMP:20260426T031518
CREATED:20250314T142326Z
LAST-MODIFIED:20250324T084408Z
UID:10000862-1742639400-1742639400@bibliotecamonfalcone.it
SUMMARY:Storie per stare insieme in Biblioteca - Piccolissimi - Marzo 2025
DESCRIPTION:Cari genitori\, nonni e nonne dei più piccoli\, siete pronti a vivere una magica esperienza insieme ai vostri bimbi? \nSabato 8 marzo e sabato 22 marzo alle ore 10.30 i vostri piccoli potranno immergersi in storie colorate\, affascinanti e coinvolgenti\, grazie ai nostri invincibili Lettori in cantiere! \nVi aspettiamo in sala ragazzi! \nIngresso libero e gratuito.
URL:https://bibliotecamonfalcone.it/eventi/storie-per-stare-insieme-in-biblioteca-piccolissimi-marzo-2025/2025-03-22/
CATEGORIES:Letture ad alta voce
ATTACH;FMTTYPE=image/png:https://bibliotecamonfalcone.it/wp-content/uploads/2025/03/Screenshot-2025-03-14-alle-15.06.40.png
END:VEVENT
BEGIN:VEVENT
DTSTART;TZID=Europe/Rome:20250326T163000
DTEND;TZID=Europe/Rome:20250326T163000
DTSTAMP:20260426T031518
CREATED:20250314T140512Z
LAST-MODIFIED:20250314T140725Z
UID:10000860-1743006600-1743006600@bibliotecamonfalcone.it
SUMMARY:Storie per stare insieme in Biblioteca - Marzo 2025
DESCRIPTION:Nel mese di Monfalcone Geografie ci dedicheremo alla scoperta del nostro mondo attraverso letture e laboratori!\nGli appuntamenti di marzo saranno così strutturati: \n\nmercoledì 5 marzo alle 16.30 i grandiosi Lettori in Cantiere ci leggeranno delle storie e e faremo un laboratorio dedicato alla bellezza del nostro pianeta e dei suoi animali;\nmercoledì 12 marzo alle 16.30 anche qui i Lettori in Cantiere ci leggeranno delle storie e e faremo un laboratorio dedicato al mondo e alle piante;\nmercoledì 19 marzo alle 16.30 lo dedicheremo al Kamishibai\, il teatrino giapponese;\nmercoledì 26 marzo alle 16.30 le storie saranno raccontate dalle bravissime studentesse dell’ISIS “Sandro Pertini”.\n\nVi aspettiamo tutti i mercoledì di marzo dalle ore 16.30!
URL:https://bibliotecamonfalcone.it/eventi/storie-per-stare-insieme-in-biblioteca-marzo-2025/2025-03-26/
CATEGORIES:Letture ad alta voce
ATTACH;FMTTYPE=image/png:https://bibliotecamonfalcone.it/wp-content/uploads/2025/03/Screenshot-2025-03-14-alle-15.06.40.png
END:VEVENT
END:VCALENDAR