BEGIN:VCALENDAR
VERSION:2.0
PRODID:-//Biblioteca Comunale di Monfalcone - ECPv6.15.20//NONSGML v1.0//EN
CALSCALE:GREGORIAN
METHOD:PUBLISH
X-ORIGINAL-URL:https://bibliotecamonfalcone.it
X-WR-CALDESC:Eventi per Biblioteca Comunale di Monfalcone
REFRESH-INTERVAL;VALUE=DURATION:PT1H
X-Robots-Tag:noindex
X-PUBLISHED-TTL:PT1H
BEGIN:VTIMEZONE
TZID:Europe/Rome
BEGIN:DAYLIGHT
TZOFFSETFROM:+0100
TZOFFSETTO:+0200
TZNAME:CEST
DTSTART:20240331T010000
END:DAYLIGHT
BEGIN:STANDARD
TZOFFSETFROM:+0200
TZOFFSETTO:+0100
TZNAME:CET
DTSTART:20241027T010000
END:STANDARD
BEGIN:DAYLIGHT
TZOFFSETFROM:+0100
TZOFFSETTO:+0200
TZNAME:CEST
DTSTART:20250330T010000
END:DAYLIGHT
BEGIN:STANDARD
TZOFFSETFROM:+0200
TZOFFSETTO:+0100
TZNAME:CET
DTSTART:20251026T010000
END:STANDARD
BEGIN:DAYLIGHT
TZOFFSETFROM:+0100
TZOFFSETTO:+0200
TZNAME:CEST
DTSTART:20260329T010000
END:DAYLIGHT
BEGIN:STANDARD
TZOFFSETFROM:+0200
TZOFFSETTO:+0100
TZNAME:CET
DTSTART:20261025T010000
END:STANDARD
END:VTIMEZONE
BEGIN:VEVENT
DTSTART;TZID=Europe/Rome:20250127T180000
DTEND;TZID=Europe/Rome:20250127T180000
DTSTAMP:20260426T001530
CREATED:20250117T141056Z
LAST-MODIFIED:20250117T141056Z
UID:10000844-1738000800-1738000800@bibliotecamonfalcone.it
SUMMARY:Primo Levi. Le parole della memoria e della vita
DESCRIPTION:In occasione del Giorno della Memoria\, la Biblioteca comunale di Monfalcone vi invita ad un incontro speciale: un viaggio attraverso le parole di Primo Levi\, per riscoprirne il pensiero e la sensibilità letteraria fuori dal comune. \nAttraverso la lettura di alcuni brani legati alla sua drammatica esperienza del lager rifletteremo insieme sull’importanza della memoria come strumento di consapevolezza collettiva. Ma esploreremo anche opere che rivelano il lato più intimo e universale dello scrittore e scienziato torinese. \nUn’occasione per onorare una voce straordinaria della nostra storia. \nCon la partecipazione dei Lettori in Cantiere.
URL:https://bibliotecamonfalcone.it/eventi/primo-levi-le-parole-della-memoria-e-della-vita/
CATEGORIES:Letture ad alta voce
ATTACH;FMTTYPE=image/png:https://bibliotecamonfalcone.it/wp-content/uploads/2025/01/locandina-Primo-Levi.png
END:VEVENT
BEGIN:VEVENT
DTSTART;TZID=Europe/Rome:20250131T180000
DTEND;TZID=Europe/Rome:20250131T180000
DTSTAMP:20260426T001530
CREATED:20250124T141552Z
LAST-MODIFIED:20250124T141552Z
UID:10000845-1738346400-1738346400@bibliotecamonfalcone.it
SUMMARY:Guglielmo camminava scalzo
DESCRIPTION:Guglielmo\, un ragazzo tra i tanti\, fu mandato in Africa. Il tanto declamato “posto al sole lo attendeva”! Partito da Carpeneto (Friuli) Guglielmo combatté in Etiopia. Al piccolo campo di aviazione di Campoformido\, sognava di diventare aviatore come il Duca d’Aosta. Ma fu in quella nera terra ostile e refrattaria ad ogni progresso che Guglielmo conobbe l’ebbrezza del volo. L’antico insegnamento impartito dal buon Duca d’Aosta valse a Guglielmo il senso della libertà dell’aria\, delle nuvole\, del sole e del vento. \nRoberto Pontoni\, imprenditore e scrittore friulano\, è fondatore e amministratore da oltre 35 anni dell’omonimo centro acustico. Vero self-made man\, ha esordito nella scrittura nel 2016 con il libro “La mia 500 Blu”. Dopo il successo della sua opera prima ha continuato a dedicarsi alla creazione di testi autentici\, legati a doppio filo con la cultura locale.
URL:https://bibliotecamonfalcone.it/eventi/guglielmo-camminava-scalzo/
CATEGORIES:Presentazioni
ATTACH;FMTTYPE=image/png:https://bibliotecamonfalcone.it/wp-content/uploads/2025/01/cartolina-Pontoni.png
END:VEVENT
END:VCALENDAR