BEGIN:VCALENDAR
VERSION:2.0
PRODID:-//Biblioteca Comunale di Monfalcone - ECPv6.15.20//NONSGML v1.0//EN
CALSCALE:GREGORIAN
METHOD:PUBLISH
X-WR-CALNAME:Biblioteca Comunale di Monfalcone
X-ORIGINAL-URL:https://bibliotecamonfalcone.it
X-WR-CALDESC:Eventi per Biblioteca Comunale di Monfalcone
REFRESH-INTERVAL;VALUE=DURATION:PT1H
X-Robots-Tag:noindex
X-PUBLISHED-TTL:PT1H
BEGIN:VTIMEZONE
TZID:Europe/Rome
BEGIN:DAYLIGHT
TZOFFSETFROM:+0100
TZOFFSETTO:+0200
TZNAME:CEST
DTSTART:20230326T010000
END:DAYLIGHT
BEGIN:STANDARD
TZOFFSETFROM:+0200
TZOFFSETTO:+0100
TZNAME:CET
DTSTART:20231029T010000
END:STANDARD
BEGIN:DAYLIGHT
TZOFFSETFROM:+0100
TZOFFSETTO:+0200
TZNAME:CEST
DTSTART:20240331T010000
END:DAYLIGHT
BEGIN:STANDARD
TZOFFSETFROM:+0200
TZOFFSETTO:+0100
TZNAME:CET
DTSTART:20241027T010000
END:STANDARD
BEGIN:DAYLIGHT
TZOFFSETFROM:+0100
TZOFFSETTO:+0200
TZNAME:CEST
DTSTART:20250330T010000
END:DAYLIGHT
BEGIN:STANDARD
TZOFFSETFROM:+0200
TZOFFSETTO:+0100
TZNAME:CET
DTSTART:20251026T010000
END:STANDARD
END:VTIMEZONE
BEGIN:VEVENT
DTSTART;TZID=Europe/Rome:20241201T103000
DTEND;TZID=Europe/Rome:20241201T103000
DTSTAMP:20260425T224438
CREATED:20241015T084721Z
LAST-MODIFIED:20241015T124423Z
UID:10000816-1733049000-1733049000@bibliotecamonfalcone.it
SUMMARY:Partecipazione e bene comune. L'impegno civico per il futuro della vita democratica
DESCRIPTION:In Italia\, alle recenti elezioni europee\, ha partecipato al voto il 49\,7 per cento degli aventi diritto. È il dato più basso nella storia repubblicana\, un sintomo che segnala una più generale crisi della partecipazione alla vita democratica. \nCome inquadrare meglio questo problema? Cosa significa contribuire al Bene Comune? Come chiarire il significato della “partecipazione” dal punto di vista morale e politico?
URL:https://bibliotecamonfalcone.it/eventi/partecipazione-e-bene-comune-limpegno-civico-per-il-futuro-della-vita-democratica/
CATEGORIES:Incontri
ATTACH;FMTTYPE=image/jpeg:https://bibliotecamonfalcone.it/wp-content/uploads/2024/10/filosofia-4.jpg
END:VEVENT
BEGIN:VEVENT
DTSTART;TZID=Europe/Rome:20241204T163000
DTEND;TZID=Europe/Rome:20241204T163000
DTSTAMP:20260425T224438
CREATED:20241203T154147Z
LAST-MODIFIED:20241203T154147Z
UID:10000838-1733329800-1733329800@bibliotecamonfalcone.it
SUMMARY:Storie e giochi per stare insieme in biblioteca - dicembre 2024
DESCRIPTION:Mercoledì 4 dicembre alle ore 16.30 iniziano gli appuntamenti dedicati alle letture della biblioteca di Monfalcone! Oltre ad ascoltare le storie scelte dai nostri fantastici Lettori in Cantiere\, ci saranno tantissimi giochi e divertimento! \nEvento libero e gratuito dedicato ai bambini e alle bambine dai 3 ai 6 anni di età.
URL:https://bibliotecamonfalcone.it/eventi/storie-e-giochi-per-stare-insieme-in-biblioteca-dicembre-2024/
CATEGORIES:Letture ad alta voce
ATTACH;FMTTYPE=image/jpeg:https://bibliotecamonfalcone.it/wp-content/uploads/2024/12/4-12.jpg
END:VEVENT
BEGIN:VEVENT
DTSTART;TZID=Europe/Rome:20241206T180000
DTEND;TZID=Europe/Rome:20241206T180000
DTSTAMP:20260425T224438
CREATED:20241119T143827Z
LAST-MODIFIED:20241119T143827Z
UID:10000834-1733508000-1733508000@bibliotecamonfalcone.it
SUMMARY:L'albero nel cortile. Una grande famiglia\, la terra\, la pianura
DESCRIPTION:Ambientato tra Ottocento e Novecento nella Bassa Friulana\, L’albero nel cortile è una vera e propria saga contadina che vede come protagonista la famiglia Clementin. Miu\, Pepi\, Checo\, Anton e i loro discendenti\, anche emigranti\, affrontano le difficoltà che la vita e la Storia pongono loro davanti (tra cui l’epidemia di colera del 1855)\, senza mai perdere il legame che li unisce. Nel tempo\, l’albero nel cortile diventa testimone e custode delle loro memorie. \nGabriella Grassi è nata e vive a Terzo di Aquileia. Alla passione per la storia locale alterna quella per la scrittura di racconti e romanzi a sfondo storico. Nel 2017\, con il racconto Gli occhi della volpe\, è stata selezionata fra i finalisti al concorso letterario Per le antiche vie di Montereale Valcellina. Dopo Le Stagioni Ritrovate (2019)\, L’albero nel cortile è il suo secondo romanzo.
URL:https://bibliotecamonfalcone.it/eventi/lalbero-nel-cortile-una-grande-famiglia-la-terra-la-pianura/
CATEGORIES:Presentazioni
ATTACH;FMTTYPE=image/png:https://bibliotecamonfalcone.it/wp-content/uploads/2024/11/Grassi.png
END:VEVENT
BEGIN:VEVENT
DTSTART;TZID=Europe/Rome:20241207T093000
DTEND;TZID=Europe/Rome:20241207T123000
DTSTAMP:20260425T224438
CREATED:20241111T103603Z
LAST-MODIFIED:20241111T103632Z
UID:10000346-1733563800-1733574600@bibliotecamonfalcone.it
SUMMARY:Mercatino dei libri usati
DESCRIPTION:Ogni primo sabato del mese nello spazioso scalone principale della Biblioteca\, si mettono a disposizione dell’utenza libri ed altri materiali editoriali che possono essere portati a casa con una piccola offerta.\nIl ricavato va a coprire una parte delle spese per l’acquisto di nuovi volumi destinati al prestito bibliotecario\, in modo da incrementare e aggiornare costantemente il patrimonio librario.
URL:https://bibliotecamonfalcone.it/eventi/mercatino-dei-libri-usati-2-2/
CATEGORIES:Mercatini
ATTACH;FMTTYPE=image/png:https://bibliotecamonfalcone.it/wp-content/uploads/2024/02/Mercatino-07.12.png
END:VEVENT
BEGIN:VEVENT
DTSTART;TZID=Europe/Rome:20241210T173000
DTEND;TZID=Europe/Rome:20241210T173000
DTSTAMP:20260425T224438
CREATED:20241128T143835Z
LAST-MODIFIED:20241128T143911Z
UID:10000836-1733851800-1733851800@bibliotecamonfalcone.it
SUMMARY:Quando Monfalcone volava
DESCRIPTION:Saluti istituzionali di Tiziana Maioretto\, Assessore all’Istruzione del Comune di Monfalcone \nConsegna dei diplomi di fedeltà e di merito ai soci dell’Associazione Arma Aeronautica e del CLUB77 Frecce Tricolori ODV di Monfalcone \nPresentazione del libro “Quando Monfalcone volava” di Marino Ravalico\ncon la collaborazione grafica di Giovanni Rusconi \na cura di Rino Romano\, Presidente della Sezione di Monfalcone dell’Associazione Arma Aeronautica e del CLUB77 Frecce Tricolori ODV di Monfalcone \nRelatore: Mauro Martinenzi\, curatore con Susanna Ognibene della Mostra “Macchine volanti. Da Leonardo alle Frecce Tricolori” (Monfalcone\, 2019) \nAl termine della presentazione i partecipanti riceveranno in omaggio una copia del libro
URL:https://bibliotecamonfalcone.it/eventi/quando-monfalcone-volava/
CATEGORIES:Presentazioni
ATTACH;FMTTYPE=image/png:https://bibliotecamonfalcone.it/wp-content/uploads/2024/11/Screenshot-2024-11-28-alle-15.36.23.png
END:VEVENT
BEGIN:VEVENT
DTSTART;TZID=Europe/Rome:20241211T160000
DTEND;TZID=Europe/Rome:20241211T160000
DTSTAMP:20260425T224438
CREATED:20241203T154451Z
LAST-MODIFIED:20241203T154518Z
UID:10000839-1733932800-1733932800@bibliotecamonfalcone.it
SUMMARY:Storie per stare insieme in… Residenza per anziani - dicembre 2024
DESCRIPTION:Mercoledì 11 dicembre alle ore 16.00 cambiamo location! Leggeremo assieme alle studentesse dell’ISIS Sandro Pertini presso la residenza per anziani (via della Crociera\, 14 – blocco 1). \nEvento libero e gratuito dedicato ai bambini e alle bambine dai 3 ai 6 anni di età.
URL:https://bibliotecamonfalcone.it/eventi/storie-per-stare-insieme-in-residenza-per-anziani-dicembre-2024/
CATEGORIES:Letture ad alta voce
ATTACH;FMTTYPE=image/jpeg:https://bibliotecamonfalcone.it/wp-content/uploads/2024/12/11-12.jpg
END:VEVENT
BEGIN:VEVENT
DTSTART;TZID=Europe/Rome:20241212T180000
DTEND;TZID=Europe/Rome:20241212T180000
DTSTAMP:20260425T224438
CREATED:20241202T081903Z
LAST-MODIFIED:20241202T081910Z
UID:10000837-1734026400-1734026400@bibliotecamonfalcone.it
SUMMARY:A Natale… libri su misura! Gioca con noi e trova il regalo letterario perfetto
DESCRIPTION:La Biblioteca è lieta di annunciare un evento speciale per le festività natalizie: un appuntamento letterario originale e interattivo che unirà cultura\, gioco e la magia del Natale. \nPartecipa ai giochi ispirati ai tuoi autori preferiti\, scopri curiosità sulle loro opere e lascia che i nostri consigli ti guidino nella scelta dei libri perfetti per te o per i tuoi cari. Un’occasione per divertirti\, scoprire nuove letture e vivere la magia delle festività in un luogo speciale. \nL’evento è gratuito e rientra nell’ambito del format “Parliamone in Biblioteca. Intrecci di storie”\, che vuole coinvolgere la cittadinanza in momenti di condivisione del piacere della lettura rivolta a ogni fascia d’età. \nUn Natale all’insegna della cultura e del divertimento vi aspetta in biblioteca!
URL:https://bibliotecamonfalcone.it/eventi/a-natale-libri-su-misura-gioca-con-noi-e-trova-il-regalo-letterario-perfetto/
CATEGORIES:Incontri
ATTACH;FMTTYPE=image/png:https://bibliotecamonfalcone.it/wp-content/uploads/2024/12/locandina-biblio-12-dicembre.png
END:VEVENT
BEGIN:VEVENT
DTSTART;TZID=Europe/Rome:20241213T180000
DTEND;TZID=Europe/Rome:20241213T180000
DTSTAMP:20260425T224438
CREATED:20241127T142338Z
LAST-MODIFIED:20241127T142338Z
UID:10000835-1734112800-1734112800@bibliotecamonfalcone.it
SUMMARY:Le truppe d’assalto austro-ungariche nella Grande Guerra
DESCRIPTION:Prendendo le mosse dall’omonimo libro di Alessandro Massignani\, l’incontro verterà sull’analisi delle truppe d’assalto austro-ungariche durante la Prima Guerra Mondiale\, esplorando un aspetto fondamentale ma spesso trascurato del conflitto: l’evoluzione delle tecniche di combattimento e l’introduzione di nuove modalità operative che segnarono un punto di svolta nella guerra di trincea. Insieme agli Arditi italiani e ai reparti d’assalto tedeschi\, le truppe d’assalto dell’impero austro-ungarico rappresentarono una risposta innovativa alla staticità e alla brutalità delle battaglie nelle trincee\, dando un nuovo impulso alla guerra e modificando le dinamiche del fronte. \nAlessandro Massignani si occupa da decenni di storia militare\, soprattutto nel campo delle strutture delle istituzioni militari del Novecento e del ruolo dell’industria bellica. È membro della Società di storia militare\, del Centro interuniversitario di studi e ricerche storico militari\, dell’International Intelligence Study Group\, nonché della Society for Military History. Fa parte del comitato scientifico della Rivista di Storia Contemporanea in Friuli. Ha pubblicato decine di volumi di argomento bellico.
URL:https://bibliotecamonfalcone.it/eventi/le-truppe-dassalto-austro-ungariche-nella-grande-guerra/
CATEGORIES:Presentazioni
ATTACH;FMTTYPE=image/png:https://bibliotecamonfalcone.it/wp-content/uploads/2024/11/cartolina-Massignani.png
END:VEVENT
BEGIN:VEVENT
DTSTART;TZID=Europe/Rome:20241214T093000
DTEND;TZID=Europe/Rome:20241214T123000
DTSTAMP:20260425T224438
CREATED:20241113T114538Z
LAST-MODIFIED:20241113T114649Z
UID:10000833-1734168600-1734179400@bibliotecamonfalcone.it
SUMMARY:Edizione speciale Mercatino dei Libri usati
DESCRIPTION:Edizione speciale del Mercatino dei Libri usati per tutti i ragazzi e le ragazze fino a 26 anni d’età!\nSabato 14 dicembre 2024 dalle 9.30 alle 12.30\, i giovani fino ai 26 anni potranno scegliere GRATUITAMENTE fino a 5 libri dall’ampia scelta di titoli in esposizione presso lo scalone all’ingresso della Biblioteca!
URL:https://bibliotecamonfalcone.it/eventi/edizione-speciale-mercatino-dei-libri-usati/
CATEGORIES:Mercatini
ATTACH;FMTTYPE=image/png:https://bibliotecamonfalcone.it/wp-content/uploads/2024/11/Edizione-speciale.png
END:VEVENT
BEGIN:VEVENT
DTSTART;TZID=Europe/Rome:20241214T103000
DTEND;TZID=Europe/Rome:20241214T103000
DTSTAMP:20260425T224438
CREATED:20241203T154745Z
LAST-MODIFIED:20241203T154745Z
UID:10000840-1734172200-1734172200@bibliotecamonfalcone.it
SUMMARY:Storie per stare insieme in biblioteca - Piccolissimi - dicembre 2024
DESCRIPTION:Sabato 14 dicembre alle ore 10.30 sarà tutto dedicato ai nostri piccolissimi lettori e alle loro famiglie! Assieme ai Lettori in cantiere conosceremo tanti nuovissimi e bellissimi libri! \nEvento libero e gratuito dedicato ai bambini e alle bambine dai 1 ai 3 anni di età.
URL:https://bibliotecamonfalcone.it/eventi/storie-per-stare-insieme-in-biblioteca-piccolissimi-dicembre-2024/
CATEGORIES:Letture ad alta voce
ATTACH;FMTTYPE=image/jpeg:https://bibliotecamonfalcone.it/wp-content/uploads/2024/12/14-12.jpg
END:VEVENT
BEGIN:VEVENT
DTSTART;TZID=Europe/Rome:20241218T163000
DTEND;TZID=Europe/Rome:20241218T163000
DTSTAMP:20260425T224438
CREATED:20241203T155013Z
LAST-MODIFIED:20241203T155013Z
UID:10000841-1734539400-1734539400@bibliotecamonfalcone.it
SUMMARY:Storie e giochi per stare insieme in biblioteca – dicembre 2024
DESCRIPTION:Mercoledì 18 dicembre alle ore 16.30 ci sarà l’ultimo appuntamento dedicato alle letture della biblioteca di Monfalcone! Oltre ad ascoltare le storie scelte dai nostri fantastici Lettori in Cantiere\, ci saranno tantissimi giochi e divertimento! \nEvento libero e gratuito dedicato ai bambini e alle bambine dai 3 ai 6 anni di età.
URL:https://bibliotecamonfalcone.it/eventi/storie-e-giochi-per-stare-insieme-in-biblioteca-dicembre-2024-2/
CATEGORIES:Letture ad alta voce
ATTACH;FMTTYPE=image/jpeg:https://bibliotecamonfalcone.it/wp-content/uploads/2024/12/18-12.jpg
END:VEVENT
BEGIN:VEVENT
DTSTART;TZID=Europe/Rome:20241219T180000
DTEND;TZID=Europe/Rome:20241219T180000
DTSTAMP:20260425T224438
CREATED:20241210T135511Z
LAST-MODIFIED:20241210T135536Z
UID:10000842-1734631200-1734631200@bibliotecamonfalcone.it
SUMMARY:Il Natale prima di Gesù
DESCRIPTION:In questa conferenza scopriamo le radici più antiche del Natale\, in un viaggio che attraversa le celebrazioni invernali delle antiche civiltà. Dalle feste romane dei Saturnali alle tradizioni nordiche del Solstizio d’Inverno\, esploreremo i miti e i rituali che hanno preceduto la nascita del Natale cristiano\, scoprendo come l’umanità abbia da sempre celebrato il rinnovarsi della luce in mezzo al buio. Un’occasione per riflettere su come la tradizione del Natale abbia unito epoche e culture\, prima ancora di diventare la festa che conosciamo oggi. Sarà anche un’occasione per approfondire certe tematiche legate alla spiritualità e di conseguenza alle neuroscienze. \nLia Silvia Gregoretti\, counsellor e giornalista\, divulgatrice con il blog Caleidoscopica.it\, concentra i suoi studi su neuroscienze\, psicologia e spiritualità\, raccontando come questi argomenti siano la stessa manifestazione su piani diversi.
URL:https://bibliotecamonfalcone.it/eventi/il-natale-prima-di-gesu/
CATEGORIES:Incontri
ATTACH;FMTTYPE=image/png:https://bibliotecamonfalcone.it/wp-content/uploads/2024/12/locandina-Gregoretti.png
END:VEVENT
END:VCALENDAR