BEGIN:VCALENDAR
VERSION:2.0
PRODID:-//Biblioteca Comunale di Monfalcone - ECPv6.15.20//NONSGML v1.0//EN
CALSCALE:GREGORIAN
METHOD:PUBLISH
X-WR-CALNAME:Biblioteca Comunale di Monfalcone
X-ORIGINAL-URL:https://bibliotecamonfalcone.it
X-WR-CALDESC:Eventi per Biblioteca Comunale di Monfalcone
REFRESH-INTERVAL;VALUE=DURATION:PT1H
X-Robots-Tag:noindex
X-PUBLISHED-TTL:PT1H
BEGIN:VTIMEZONE
TZID:Europe/Rome
BEGIN:DAYLIGHT
TZOFFSETFROM:+0100
TZOFFSETTO:+0200
TZNAME:CEST
DTSTART:20230326T010000
END:DAYLIGHT
BEGIN:STANDARD
TZOFFSETFROM:+0200
TZOFFSETTO:+0100
TZNAME:CET
DTSTART:20231029T010000
END:STANDARD
BEGIN:DAYLIGHT
TZOFFSETFROM:+0100
TZOFFSETTO:+0200
TZNAME:CEST
DTSTART:20240331T010000
END:DAYLIGHT
BEGIN:STANDARD
TZOFFSETFROM:+0200
TZOFFSETTO:+0100
TZNAME:CET
DTSTART:20241027T010000
END:STANDARD
BEGIN:DAYLIGHT
TZOFFSETFROM:+0100
TZOFFSETTO:+0200
TZNAME:CEST
DTSTART:20250330T010000
END:DAYLIGHT
BEGIN:STANDARD
TZOFFSETFROM:+0200
TZOFFSETTO:+0100
TZNAME:CET
DTSTART:20251026T010000
END:STANDARD
END:VTIMEZONE
BEGIN:VEVENT
DTSTART;TZID=Europe/Rome:20240907T093000
DTEND;TZID=Europe/Rome:20240907T123000
DTSTAMP:20260425T181812
CREATED:20240223T082148Z
LAST-MODIFIED:20240223T082201Z
UID:10000343-1725701400-1725712200@bibliotecamonfalcone.it
SUMMARY:Mercatino dei libri usati
DESCRIPTION:Ogni primo sabato del mese nello spazioso scalone principale della Biblioteca\, si mettono a disposizione dell’utenza libri ed altri materiali editoriali che possono essere portati a casa con una piccola offerta.\nIl ricavato va a coprire una parte delle spese per l’acquisto di nuovi volumi destinati al prestito bibliotecario\, in modo da incrementare e aggiornare costantemente il patrimonio librario.
URL:https://bibliotecamonfalcone.it/eventi/mercatino-dei-libri-usati-2/2024-09-07/
CATEGORIES:Mercatini
ATTACH;FMTTYPE=image/png:https://bibliotecamonfalcone.it/wp-content/uploads/2023/06/Mercatino-dei-libri-usati.png
END:VEVENT
BEGIN:VEVENT
DTSTART;TZID=Europe/Rome:20240918T180000
DTEND;TZID=Europe/Rome:20240918T180000
DTSTAMP:20260425T181812
CREATED:20240910T084712Z
LAST-MODIFIED:20240910T084712Z
UID:10000797-1726682400-1726682400@bibliotecamonfalcone.it
SUMMARY:Monfalcone\, Mediterraneo: storia del lavoro nella "città delle barche"
DESCRIPTION:Il cantiere navale più grande d’Italia\, il porto dai grandi spazi\, la riscoperta di antichi mestieri per creare nuova occupazione\, la scommessa del polo nautico\, la valorizzazione turistica del litorale. Ma anche il peso crescente di un’immigrazione che ha portato al trenta per cento i residenti di origine straniera. Un libro per raccontare tra storia\, curiosità e personaggi\, l’essenza della quinta città del Friuli Venezia Giulia nel sessantesimo dalla fondazione del Consorzio di Sviluppo Economico della Venezia Giulia. \nRoberto Covaz.\nMonfalconese di nascita e di residenza\, giornalista\, scrittore\, saggista\, conferenziere\, e adesso anche pensionato. Autore di alcune decine di libri\, quasi tutti legati alla storia della sua terra. Scrittore di testi teatrali. Ideatore del Festival Monfalcone Geografie e del Festival dell’Acqua Staranzano. Tra i suoi libri: “Amianto. I polmoni dei canterini di Monfalcone”\, “Monfalcone 1918-2018: cent’anni di storia”\, “Mario Brancati e la DC goriziana”\, “I pescatori di Grado”\, “Storia di Marco\, il pinguino rapito”\, “La domenica delle scope e altre storie di confine”\, “Il tesoro del Carso  – Vita e misteri del pirata benefattore”\, “Giovanin dei Usei e altre storie all’ombra della Rocca”.
URL:https://bibliotecamonfalcone.it/eventi/monfalcone-mediterraneo-storia-del-lavoro-nella-citta-delle-barche/
CATEGORIES:Presentazioni
ATTACH;FMTTYPE=image/png:https://bibliotecamonfalcone.it/wp-content/uploads/2024/09/cartolina-Covaz.png
END:VEVENT
BEGIN:VEVENT
DTSTART;TZID=Europe/Rome:20240924T180000
DTEND;TZID=Europe/Rome:20240924T190000
DTSTAMP:20260425T181812
CREATED:20240918T152635Z
LAST-MODIFIED:20240918T153352Z
UID:10000798-1727200800-1727204400@bibliotecamonfalcone.it
SUMMARY:Dove nasce l’Adriatico. E la preistoria si fa storia
DESCRIPTION:Il libro è una piccola antologia di miti e storie del Caput Adriae\, il comprensorio dell’alto Adriatico che va dal Friuli Venezia Giulia all’Istria. L’opera esplora le profondità storiche e leggendarie di Trieste\, una città ricca di culture e tradizioni\, presentando un affascinante mosaico di racconti che spaziano dalla preistoria alla storia moderna. Scritto in doppia lingua\, italiano e triestino\, rappresenta un nuovo metodo di apprendimento per i giovani e un confronto per chi ama usare il vernacolo nei propri scritti. Il libro fa parte del più ampio progetto “Dove nasce l’Adriatico”: Festival diffuso sulla conservazione e promozione del dialetto\, a cura dell’Associazione “Tredici Casade” APS. \nEdda Vidiz è autrice\, regista\, storiografa\, commediografa e promotrice della cultura e della storia triestina. Ha fondato l’Associazione “Tredici Casade” APS\, che attraverso spettacoli di piazza\, rappresentazioni teatrali\, filmati\, edizioni librarie e musicali\, si propone di incrementare l’interesse turistico del territorio\, con particolare riguardo alla città e alla provincia di Trieste.
URL:https://bibliotecamonfalcone.it/eventi/dove-nasce-ladriatico-e-la-preistoria-si-fa-storia/
CATEGORIES:Incontri
ATTACH;FMTTYPE=image/jpeg:https://bibliotecamonfalcone.it/wp-content/uploads/2024/09/cartolina-vidiz.jpg
END:VEVENT
BEGIN:VEVENT
DTSTART;TZID=Europe/Rome:20240927T180000
DTEND;TZID=Europe/Rome:20240927T180000
DTSTAMP:20260425T181812
CREATED:20240909T110709Z
LAST-MODIFIED:20240909T110709Z
UID:10000796-1727460000-1727460000@bibliotecamonfalcone.it
SUMMARY:"Un uomo migliore". Teatro Canzone scritto\, diretto e interpretato da Enrico Taunisio
DESCRIPTION:Un figlio che vuole essere un uomo migliore del padre violento. Una madre che ha protetto il figlio\, ma non ha potuto proteggere se stessa. Un padre che non è stato un amorevole punto di riferimento. La storia di una famiglia sfortunata attraverso la storia di un’Italia ferita. Uno spettacolo che vi farà emozionare e riflettere. \nEnrico Taunisio nasce a Milano nel 1957. Fin da ragazzo si appassiona al teatro e alla musica. Entra a far parte di diversi gruppi teatrali e sviluppa anche il piacere della scrittura di testi teatrali e canzoni. Nel 2016 si trasferisce in Friuli Venezia Giulia e il suo impegno artistico non si ferma. Oggi fa parte della Compagnia Stropula Cantieri Teatrali di Monfalcone. Il monologo “Un uomo migliore” lo vede affrontare il tema drammatico della violenza sulle donne\, con la tecnica dell’affabulazione e del Teatro Canzone\, accompagnandosi con la sua chitarra.
URL:https://bibliotecamonfalcone.it/eventi/un-uomo-migliore-teatro-canzone-scritto-diretto-e-interpretato-da-enrico-taunisio/
CATEGORIES:Incontri
ATTACH;FMTTYPE=image/png:https://bibliotecamonfalcone.it/wp-content/uploads/2024/09/Teatro-Canzone.png
END:VEVENT
END:VCALENDAR