BEGIN:VCALENDAR
VERSION:2.0
PRODID:-//Biblioteca Comunale di Monfalcone - ECPv6.15.20//NONSGML v1.0//EN
CALSCALE:GREGORIAN
METHOD:PUBLISH
X-ORIGINAL-URL:https://bibliotecamonfalcone.it
X-WR-CALDESC:Eventi per Biblioteca Comunale di Monfalcone
REFRESH-INTERVAL;VALUE=DURATION:PT1H
X-Robots-Tag:noindex
X-PUBLISHED-TTL:PT1H
BEGIN:VTIMEZONE
TZID:Europe/Rome
BEGIN:DAYLIGHT
TZOFFSETFROM:+0100
TZOFFSETTO:+0200
TZNAME:CEST
DTSTART:20230326T010000
END:DAYLIGHT
BEGIN:STANDARD
TZOFFSETFROM:+0200
TZOFFSETTO:+0100
TZNAME:CET
DTSTART:20231029T010000
END:STANDARD
BEGIN:DAYLIGHT
TZOFFSETFROM:+0100
TZOFFSETTO:+0200
TZNAME:CEST
DTSTART:20240331T010000
END:DAYLIGHT
BEGIN:STANDARD
TZOFFSETFROM:+0200
TZOFFSETTO:+0100
TZNAME:CET
DTSTART:20241027T010000
END:STANDARD
BEGIN:DAYLIGHT
TZOFFSETFROM:+0100
TZOFFSETTO:+0200
TZNAME:CEST
DTSTART:20250330T010000
END:DAYLIGHT
BEGIN:STANDARD
TZOFFSETFROM:+0200
TZOFFSETTO:+0100
TZNAME:CET
DTSTART:20251026T010000
END:STANDARD
END:VTIMEZONE
BEGIN:VEVENT
DTSTART;TZID=Europe/Rome:20240703T103000
DTEND;TZID=Europe/Rome:20240703T103000
DTSTAMP:20260425T151050
CREATED:20240627T084810Z
LAST-MODIFIED:20240627T085028Z
UID:10000788-1720002600-1720002600@bibliotecamonfalcone.it
SUMMARY:La Biblioteca va al mercato
DESCRIPTION:La Biblioteca va al mercato è l’evento che apre la stagione delle letture estive della Biblioteca di Monfalcone. \nIniziamo mercoledì 3 luglio\, alle ore 10.30\, presso il giardino dell’Hotel Al Gelso (via Sant’Ambrogio 22 – Monfalcone) e continuiamo\, sempre di mercoledì alle ore 10.30\, nelle seguenti date: 10 luglio\, 17 luglio\, 24 luglio. \nGli appuntamenti\, in collaborazione con i nostri fidatissimi Lettori in Cantiere\, sono gratuiti e dedicati a tutti i bambini dai tre anni di età e alle loro famiglie. \nPer ulteriori informazioni invitiamo a seguire le pagine Facebook e Instagram della Biblioteca di Monfalcone.
URL:https://bibliotecamonfalcone.it/eventi/la-biblioteca-va-al-mercato/2024-07-03/
CATEGORIES:Letture ad alta voce
ATTACH;FMTTYPE=image/jpeg:https://bibliotecamonfalcone.it/wp-content/uploads/2024/06/copertina-eventi-storie-estate_24.jpg
END:VEVENT
BEGIN:VEVENT
DTSTART;TZID=Europe/Rome:20240704T180000
DTEND;TZID=Europe/Rome:20240704T180000
DTSTAMP:20260425T151050
CREATED:20240620T140056Z
LAST-MODIFIED:20240620T140056Z
UID:10000787-1720116000-1720116000@bibliotecamonfalcone.it
SUMMARY:La chiave di via Rastello
DESCRIPTION:L’ex commissario di Polizia Vincenzo Salvati\, ormai cieco\, opera saltuariamente come investigatore privato\, avvalendosi del supporto del suo fido ex vice Branko Jankovic. Siamo in inverno\, a Gorizia. La fama di detective di Vincenzo è giunta fino al famoso scrittore bavarese Siegfried Walden\, che\, alla vigilia della pubblicazione del suo nuovo romanzo\, lo invita a prendere parte a un aperitivo in via Rastello. Ma durante la presentazione del libro\, dopo aver annunciato che abbandonerà la letteratura per dedicarsi esclusivamente a un’inchiesta scottante di cui non rivela i dettagli\, lo scrittore si accascia e muore. Per Salvati ha inizio un’indagine serrata che vede protagonisti gli invitati alla presentazione\, ognuno dei quali ha più di un motivo per volere Walden morto. \nPaolo Pichierri\, classe 1964\, è uno scrittore e giornalista triestino. Di formazione televisiva\, è stato attivo in tutti i linguaggi della professione\, dalla radio alla carta stampata e alle agenzie. \nIn caso di maltemo in Sala conferenze
URL:https://bibliotecamonfalcone.it/eventi/la-chiave-di-via-rastello/
CATEGORIES:Presentazioni
ATTACH;FMTTYPE=image/png:https://bibliotecamonfalcone.it/wp-content/uploads/2024/06/Picchieri.png
END:VEVENT
BEGIN:VEVENT
DTSTART;TZID=Europe/Rome:20240706T093000
DTEND;TZID=Europe/Rome:20240706T123000
DTSTAMP:20260425T151050
CREATED:20240223T082148Z
LAST-MODIFIED:20240223T082201Z
UID:10000341-1720258200-1720269000@bibliotecamonfalcone.it
SUMMARY:Mercatino dei libri usati
DESCRIPTION:Ogni primo sabato del mese nello spazioso scalone principale della Biblioteca\, si mettono a disposizione dell’utenza libri ed altri materiali editoriali che possono essere portati a casa con una piccola offerta.\nIl ricavato va a coprire una parte delle spese per l’acquisto di nuovi volumi destinati al prestito bibliotecario\, in modo da incrementare e aggiornare costantemente il patrimonio librario.
URL:https://bibliotecamonfalcone.it/eventi/mercatino-dei-libri-usati-2/2024-07-06/
CATEGORIES:Mercatini
ATTACH;FMTTYPE=image/png:https://bibliotecamonfalcone.it/wp-content/uploads/2023/06/Mercatino-dei-libri-usati.png
END:VEVENT
BEGIN:VEVENT
DTSTART;TZID=Europe/Rome:20240710T103000
DTEND;TZID=Europe/Rome:20240710T103000
DTSTAMP:20260425T151050
CREATED:20240627T084810Z
LAST-MODIFIED:20240627T085028Z
UID:10000789-1720607400-1720607400@bibliotecamonfalcone.it
SUMMARY:La Biblioteca va al mercato
DESCRIPTION:La Biblioteca va al mercato è l’evento che apre la stagione delle letture estive della Biblioteca di Monfalcone. \nIniziamo mercoledì 3 luglio\, alle ore 10.30\, presso il giardino dell’Hotel Al Gelso (via Sant’Ambrogio 22 – Monfalcone) e continuiamo\, sempre di mercoledì alle ore 10.30\, nelle seguenti date: 10 luglio\, 17 luglio\, 24 luglio. \nGli appuntamenti\, in collaborazione con i nostri fidatissimi Lettori in Cantiere\, sono gratuiti e dedicati a tutti i bambini dai tre anni di età e alle loro famiglie. \nPer ulteriori informazioni invitiamo a seguire le pagine Facebook e Instagram della Biblioteca di Monfalcone.
URL:https://bibliotecamonfalcone.it/eventi/la-biblioteca-va-al-mercato/2024-07-10/
CATEGORIES:Letture ad alta voce
ATTACH;FMTTYPE=image/jpeg:https://bibliotecamonfalcone.it/wp-content/uploads/2024/06/copertina-eventi-storie-estate_24.jpg
END:VEVENT
BEGIN:VEVENT
DTSTART;TZID=Europe/Rome:20240711T183000
DTEND;TZID=Europe/Rome:20240711T183000
DTSTAMP:20260425T151050
CREATED:20240704T134741Z
LAST-MODIFIED:20240704T134741Z
UID:10000794-1720722600-1720722600@bibliotecamonfalcone.it
SUMMARY:L'infinito dopoguerra
DESCRIPTION:Certo potrebbe apparire un’operazione sconveniente tentare di allestire uno spettacolo brillante che tratti dell’infinito dopoguerra nella Venezia Giulia: troppe sono infatti le vicende dolorose e le ferite non sempre rimarginate per poter immaginare di sorridere su tutto ciò che è accaduto in quei difficili momenti. Sono però passati oramai quasi ottant’anni da quegli accadimenti ed è quindi forse venuta l’ora di cercare\, sperando di non offendere la sensibilità di nessuno\, di sorridere anche di questi travagliati argomenti. In un divertente confronto dialettico tra chi si ostina a mantenere opinioni politicamente divergenti\, verranno così raccontati con leggerezza aneddoti e curiosità di uno dei periodi storici più complessi e controversi del nostro territorio. Lo spettacolo è presentato nella consolidata e agile forma del “teatro a leggio”. \nGIORGIO AMODEO si è diplomato in recitazione presso l’Accademia dei Filodrammatici di Milano sotto la direzione di Ernesto Calindri. Dal 1984 al 2010 è stato direttore artistico e organizzativo presso la Contrada – Teatro Stabile di Trieste\, curando le stagioni in ospitalità e gli spettacoli di produzione. Nel 1995 viene nominato Direttore Artistico di Muggia Spettacolo Ragazzi e dal 2007 di Aquileia in Scaena\, collabora al Premio Francesco Macedonio di Gorizia. È autore teatrale\, regista e cura gli adattamenti e le riduzioni dei copioni delle celebri “Maldobrie” e del “Campanon” radiofonico di Carpinteri & Faraguna. È stato il primo promotore\, in Friuli Venezia Giulia\, della circuitazione degli Spettacoli Teatrali nelle Scuole dell’Infanzia\, delle recite domenicali per le famiglie\, delle Animazioni Teatrali all’interno delle Istituzioni Museali.
URL:https://bibliotecamonfalcone.it/eventi/linfinito-dopoguerra/
CATEGORIES:Letture ad alta voce
ATTACH;FMTTYPE=image/jpeg:https://bibliotecamonfalcone.it/wp-content/uploads/2024/07/cartolina-Amodeo.jpg
END:VEVENT
BEGIN:VEVENT
DTSTART;TZID=Europe/Rome:20240717T103000
DTEND;TZID=Europe/Rome:20240717T103000
DTSTAMP:20260425T151050
CREATED:20240627T084810Z
LAST-MODIFIED:20240627T085028Z
UID:10000790-1721212200-1721212200@bibliotecamonfalcone.it
SUMMARY:La Biblioteca va al mercato
DESCRIPTION:La Biblioteca va al mercato è l’evento che apre la stagione delle letture estive della Biblioteca di Monfalcone. \nIniziamo mercoledì 3 luglio\, alle ore 10.30\, presso il giardino dell’Hotel Al Gelso (via Sant’Ambrogio 22 – Monfalcone) e continuiamo\, sempre di mercoledì alle ore 10.30\, nelle seguenti date: 10 luglio\, 17 luglio\, 24 luglio. \nGli appuntamenti\, in collaborazione con i nostri fidatissimi Lettori in Cantiere\, sono gratuiti e dedicati a tutti i bambini dai tre anni di età e alle loro famiglie. \nPer ulteriori informazioni invitiamo a seguire le pagine Facebook e Instagram della Biblioteca di Monfalcone.
URL:https://bibliotecamonfalcone.it/eventi/la-biblioteca-va-al-mercato/2024-07-17/
CATEGORIES:Letture ad alta voce
ATTACH;FMTTYPE=image/jpeg:https://bibliotecamonfalcone.it/wp-content/uploads/2024/06/copertina-eventi-storie-estate_24.jpg
END:VEVENT
BEGIN:VEVENT
DTSTART;TZID=Europe/Rome:20240724T103000
DTEND;TZID=Europe/Rome:20240724T103000
DTSTAMP:20260425T151050
CREATED:20240627T084810Z
LAST-MODIFIED:20240627T085028Z
UID:10000791-1721817000-1721817000@bibliotecamonfalcone.it
SUMMARY:La Biblioteca va al mercato
DESCRIPTION:La Biblioteca va al mercato è l’evento che apre la stagione delle letture estive della Biblioteca di Monfalcone. \nIniziamo mercoledì 3 luglio\, alle ore 10.30\, presso il giardino dell’Hotel Al Gelso (via Sant’Ambrogio 22 – Monfalcone) e continuiamo\, sempre di mercoledì alle ore 10.30\, nelle seguenti date: 10 luglio\, 17 luglio\, 24 luglio. \nGli appuntamenti\, in collaborazione con i nostri fidatissimi Lettori in Cantiere\, sono gratuiti e dedicati a tutti i bambini dai tre anni di età e alle loro famiglie. \nPer ulteriori informazioni invitiamo a seguire le pagine Facebook e Instagram della Biblioteca di Monfalcone.
URL:https://bibliotecamonfalcone.it/eventi/la-biblioteca-va-al-mercato/2024-07-24/
CATEGORIES:Letture ad alta voce
ATTACH;FMTTYPE=image/jpeg:https://bibliotecamonfalcone.it/wp-content/uploads/2024/06/copertina-eventi-storie-estate_24.jpg
END:VEVENT
END:VCALENDAR