BEGIN:VCALENDAR
VERSION:2.0
PRODID:-//Biblioteca Comunale di Monfalcone - ECPv6.15.20//NONSGML v1.0//EN
CALSCALE:GREGORIAN
METHOD:PUBLISH
X-WR-CALNAME:Biblioteca Comunale di Monfalcone
X-ORIGINAL-URL:https://bibliotecamonfalcone.it
X-WR-CALDESC:Eventi per Biblioteca Comunale di Monfalcone
REFRESH-INTERVAL;VALUE=DURATION:PT1H
X-Robots-Tag:noindex
X-PUBLISHED-TTL:PT1H
BEGIN:VTIMEZONE
TZID:Europe/Rome
BEGIN:DAYLIGHT
TZOFFSETFROM:+0100
TZOFFSETTO:+0200
TZNAME:CEST
DTSTART:20240331T010000
END:DAYLIGHT
BEGIN:STANDARD
TZOFFSETFROM:+0200
TZOFFSETTO:+0100
TZNAME:CET
DTSTART:20241027T010000
END:STANDARD
BEGIN:DAYLIGHT
TZOFFSETFROM:+0100
TZOFFSETTO:+0200
TZNAME:CEST
DTSTART:20250330T010000
END:DAYLIGHT
BEGIN:STANDARD
TZOFFSETFROM:+0200
TZOFFSETTO:+0100
TZNAME:CET
DTSTART:20251026T010000
END:STANDARD
BEGIN:DAYLIGHT
TZOFFSETFROM:+0100
TZOFFSETTO:+0200
TZNAME:CEST
DTSTART:20260329T010000
END:DAYLIGHT
BEGIN:STANDARD
TZOFFSETFROM:+0200
TZOFFSETTO:+0100
TZNAME:CET
DTSTART:20261025T010000
END:STANDARD
END:VTIMEZONE
BEGIN:VEVENT
DTSTART;TZID=Europe/Rome:20250610T180000
DTEND;TZID=Europe/Rome:20250610T180000
DTSTAMP:20260423T133919
CREATED:20250606T133956Z
LAST-MODIFIED:20250606T133956Z
UID:10000880-1749578400-1749578400@bibliotecamonfalcone.it
SUMMARY:Anni difficili. Vite vissute tra irredentismo\, Grande Guerra e Ventennio
DESCRIPTION:Il libro\, ambientato in Friuli tra Gradisca d’Isonzo e Cormons\, ripercorre le vicende di alcuni giovani uomini e donne in un arco di tempo compreso tra la fine dell’Ottocento e gli anni Trenta\, periodo di grandi trasformazioni storiche e sociali: l’Irredentismo acquista un ruolo centrale\, la Prima Guerra Mondiale travolge il territorio con le sue devastazioni\, e il Fascismo si impone gradualmente\, lasciando un segno sempre più evidente. In questo contesto si muovono Giulio Cesare Brinis\, giovane giornalista che\, allo scoppio della guerra\, fugge a Firenze per evitare l’arruolamento nell’esercito austro-ungarico\, e Luigi\, sopravvissuto alla battaglia del Piave nel 1917. Accanto a loro\, figure femminili forti e significative e una serie di personaggi che restituiscono un vivido affresco di un’epoca complessa e cruciale. \nEdi Fabris\, giornalista friulano con una lunga esperienza nella stampa quotidiana\, periodica e in ambito radiotelevisivo\, è autore di romanzi\, racconti e saggi. Tra i suoi titoli ricordiamo “Quindici mesi”\, “L’amante veneziana”\, “Sensazioni”\, tutti editi da Aviani & Aviani.
URL:https://bibliotecamonfalcone.it/eventi/anni-difficili-vite-vissute-tra-irredentismo-grande-guerra-e-ventennio/
CATEGORIES:Presentazioni
ATTACH;FMTTYPE=image/png:https://bibliotecamonfalcone.it/wp-content/uploads/2025/06/locandina-Fabris.png
END:VEVENT
BEGIN:VEVENT
DTSTART;TZID=Europe/Rome:20250613T180000
DTEND;TZID=Europe/Rome:20250613T180000
DTSTAMP:20260423T133919
CREATED:20250603T071456Z
LAST-MODIFIED:20250603T071456Z
UID:10000879-1749837600-1749837600@bibliotecamonfalcone.it
SUMMARY:La vera storia di Piero Dominutti
DESCRIPTION:Militante del Partito d’Azione e del Comitato pro Italia\, Piero Dominutti fu protagonista della resistenza contro l’occupazione slava a Monfalcone nel secondo dopoguerra. Si oppose all’annessione alla Jugoslavia e indagò sulla strage di Porzûs\, entrando in conflitto con i garibaldini. L’autore\, anche grazie a documenti inediti\, ricostruisce la sua vicenda politica e umana\, valorizzandolo come simbolo della resistenza democratica italiana e della lotta per l’italianità e la libertà\, superando pregiudizi ideologici. \nRenato Antonini\, monfalconese\, si è laureato in Ingegneria elettrotecnica industriale all’Università degli Studi di Trieste. Ha iniziato la sua carriera lavorativa alla Grandi Motori di Trieste\, dove ha poi ricoperto la posizione di responsabile dell’ingegneria. Dopo aver maturato ulteriori esperienze lavorative\, ha terminato il suo percorso professionale alla Fincantieri di Monfalcone. È autore di diverse opere\, tra cui Vittime monfalconesi durante l’occupazione jugoslava: 1° maggio-12 giugno 1945 (2019) e Memorie di un segnalatore seriale: 20 anni di lettere a Il Piccolo e non solo… (2021).
URL:https://bibliotecamonfalcone.it/eventi/la-vera-storia-di-piero-dominutti/
CATEGORIES:Presentazioni
ATTACH;FMTTYPE=image/png:https://bibliotecamonfalcone.it/wp-content/uploads/2025/06/cartolina-Antonini.png
END:VEVENT
END:VCALENDAR