BEGIN:VCALENDAR
VERSION:2.0
PRODID:-//Biblioteca Comunale di Monfalcone - ECPv6.15.20//NONSGML v1.0//EN
CALSCALE:GREGORIAN
METHOD:PUBLISH
X-ORIGINAL-URL:https://bibliotecamonfalcone.it
X-WR-CALDESC:Eventi per Biblioteca Comunale di Monfalcone
REFRESH-INTERVAL;VALUE=DURATION:PT1H
X-Robots-Tag:noindex
X-PUBLISHED-TTL:PT1H
BEGIN:VTIMEZONE
TZID:Europe/Rome
BEGIN:DAYLIGHT
TZOFFSETFROM:+0100
TZOFFSETTO:+0200
TZNAME:CEST
DTSTART:20240331T010000
END:DAYLIGHT
BEGIN:STANDARD
TZOFFSETFROM:+0200
TZOFFSETTO:+0100
TZNAME:CET
DTSTART:20241027T010000
END:STANDARD
BEGIN:DAYLIGHT
TZOFFSETFROM:+0100
TZOFFSETTO:+0200
TZNAME:CEST
DTSTART:20250330T010000
END:DAYLIGHT
BEGIN:STANDARD
TZOFFSETFROM:+0200
TZOFFSETTO:+0100
TZNAME:CET
DTSTART:20251026T010000
END:STANDARD
BEGIN:DAYLIGHT
TZOFFSETFROM:+0100
TZOFFSETTO:+0200
TZNAME:CEST
DTSTART:20260329T010000
END:DAYLIGHT
BEGIN:STANDARD
TZOFFSETFROM:+0200
TZOFFSETTO:+0100
TZNAME:CET
DTSTART:20261025T010000
END:STANDARD
END:VTIMEZONE
BEGIN:VEVENT
DTSTART;TZID=Europe/Rome:20250321T180000
DTEND;TZID=Europe/Rome:20250321T180000
DTSTAMP:20260423T183133
CREATED:20250310T124457Z
LAST-MODIFIED:20250310T124457Z
UID:10000855-1742580000-1742580000@bibliotecamonfalcone.it
SUMMARY:Lo sciamanesimo. Origini\, tradizioni\, prospettive
DESCRIPTION:Un volumetto di sintesi concepito come introduzione al mondo delle pratiche sciamaniche tradizionali e con lo scopo di liberare lo sciamanesimo tanto dai numerosi fraintendimenti accademici cui è stato sottoposto\, quanto dalle deformazioni new age con le quali oggi è superficialmente identificato. Attraverso brevi capitoli dedicati ai diversi aspetti dello sciamanesimo\, questo saggio traccia un percorso complessivo e lontano dagli stereotipi\, partendo dalle origini preistoriche e arrivando al mondo contemporaneo\, con un’attenzione particolare alle tracce di continuità millenaria e alle persistenze sciamaniche preistoriche presenti ancora oggi nelle nostre lingue e culture. Ne emerge un paesaggio complesso ma riconoscibile\, nato millenni prima delle recenti distinzioni tra naturale e soprannaturale\, tra corpo e mente\, tra sacro e profano. \nPoeta\, musicista\, filologo\, Francesco Benozzo è considerato uno dei più originali interpreti contemporanei dell’arpa celtica. Come filologo-linguista\, è il creatore dell’etnofilologia\, ed è noto per avere formulato la rivoluzionaria teoria che il linguaggio umano è nato già 3 milioni di anni fa\, con gli australopitechi. Come intellettuale anarchico lavora per la diffusione delle idee espresse attraverso quello che chiama “Quarto umanesimo”\, fondato su principi libertari e anti-autoritari. Dal 2015 è stabilmente candidato al Premio Nobel per la Letteratura con candidature rese pubbliche dal PEN International\, dalla Global Academy of Liberal Arts e dal Partnership Studies Group.
URL:https://bibliotecamonfalcone.it/eventi/lo-sciamanesimo-origini-tradizioni-prospettive/
CATEGORIES:Presentazioni
ATTACH;FMTTYPE=image/png:https://bibliotecamonfalcone.it/wp-content/uploads/2025/03/cartolina-Benozzo.png
END:VEVENT
END:VCALENDAR