BEGIN:VCALENDAR
VERSION:2.0
PRODID:-//Biblioteca Comunale di Monfalcone - ECPv6.15.20//NONSGML v1.0//EN
CALSCALE:GREGORIAN
METHOD:PUBLISH
X-WR-CALNAME:Biblioteca Comunale di Monfalcone
X-ORIGINAL-URL:https://bibliotecamonfalcone.it
X-WR-CALDESC:Eventi per Biblioteca Comunale di Monfalcone
REFRESH-INTERVAL;VALUE=DURATION:PT1H
X-Robots-Tag:noindex
X-PUBLISHED-TTL:PT1H
BEGIN:VTIMEZONE
TZID:Europe/Rome
BEGIN:DAYLIGHT
TZOFFSETFROM:+0100
TZOFFSETTO:+0200
TZNAME:CEST
DTSTART:20230326T010000
END:DAYLIGHT
BEGIN:STANDARD
TZOFFSETFROM:+0200
TZOFFSETTO:+0100
TZNAME:CET
DTSTART:20231029T010000
END:STANDARD
BEGIN:DAYLIGHT
TZOFFSETFROM:+0100
TZOFFSETTO:+0200
TZNAME:CEST
DTSTART:20240331T010000
END:DAYLIGHT
BEGIN:STANDARD
TZOFFSETFROM:+0200
TZOFFSETTO:+0100
TZNAME:CET
DTSTART:20241027T010000
END:STANDARD
BEGIN:DAYLIGHT
TZOFFSETFROM:+0100
TZOFFSETTO:+0200
TZNAME:CEST
DTSTART:20250330T010000
END:DAYLIGHT
BEGIN:STANDARD
TZOFFSETFROM:+0200
TZOFFSETTO:+0100
TZNAME:CET
DTSTART:20251026T010000
END:STANDARD
END:VTIMEZONE
BEGIN:VEVENT
DTSTART;TZID=Europe/Rome:20241123T100000
DTEND;TZID=Europe/Rome:20241123T100000
DTSTAMP:20260424T005057
CREATED:20241112T132141Z
LAST-MODIFIED:20241112T132141Z
UID:10000832-1732356000-1732356000@bibliotecamonfalcone.it
SUMMARY:Russia. Storia di un impero eurasiatico
DESCRIPTION:In un accurato e appassionante volume\, Ferrari ricostruisce la storia della grande potenza russa attraverso gli elementi che ne hanno forgiato l’identità\, ponendo particolare attenzione all’aspetto autocratico della sfera politica\, frutto non solo dell’eredità bizantina\, ma anche di quella mongola; alla natura multietnica del paese\, tanto nell’epoca zarista quanto in quella sovietica; e infine alla politica neo-imperiale della Russia odierna e alla sua collaborazione con la Cina all’interno del progetto di una Grande Eurasia in opposizione all’egemonia occidentale. \n  \nAldo Ferrari è Professore ordinario presso l’Università Ca’ Foscari di Venezia\, dove insegna Lingua e letteratura armena\, Storia dell’Eurasia\, Storia del Caucaso e dell’Asia centrale\, e coordina l’Osservatorio di politica e relazioni internazionali (OPRI). Per l’ISPI di Milano dirige il Programma di ricerca su Russia\, Caucaso e Asia centrale. È presidente dell’Associazione per lo studio in Italia dell’Asia centrale e del Caucaso (ASIAC). Tra i suoi libri più recenti\, ricordiamo: Storia degli armeni (con Giusto Traina\, il Mulino 2020) e Storia della Crimea (il Mulino 2022).
URL:https://bibliotecamonfalcone.it/eventi/russia-storia-di-un-impero-eurasiatico/
CATEGORIES:Presentazioni
ATTACH;FMTTYPE=image/png:https://bibliotecamonfalcone.it/wp-content/uploads/2024/11/Screenshot-2024-11-12-alle-14.19.59.png
END:VEVENT
BEGIN:VEVENT
DTSTART;TZID=Europe/Rome:20241129T180000
DTEND;TZID=Europe/Rome:20241129T180000
DTSTAMP:20260424T005057
CREATED:20241111T133220Z
LAST-MODIFIED:20241111T133226Z
UID:10000831-1732903200-1732903200@bibliotecamonfalcone.it
SUMMARY:Il bambino delle vigne
DESCRIPTION:Liberamente ispirato ad una vicenda vera\, il romanzo\, ambientato nel territorio del Collio goriziano negli anni Ottanta\, narra le vicende del primo giovanissimo ospite maschio del Collegio di Villa Russiz di Capriva del Friuli. L’autrice affronta le tematiche delicate della genitorialità rifiutata e di quella d’elezione\, sonda le crepe che l’assenza materna lascia in un bambino che diventa uomo portandosi dietro il peso dell’abbandono ma anche le opportunità di riscatto che la vita offre. \nElena Vatta (Trieste\, 1975)\, madre di tre figli\, lavora da sempre come impiegata in ambito assicurativo e da quattro anni gestisce anche una piccola locazione turistica nel cuore del Friuli Venezia Giulia. Laureata in Conservazione dei beni culturali\, Il bambino delle vigne è il suo primo romanzo che è stato selezionato ed esposto nello stand Libreria dei self-publisher al Salone internazionale del Libro di Torino 2024.
URL:https://bibliotecamonfalcone.it/eventi/il-bambino-delle-vigne/
CATEGORIES:Presentazioni
ATTACH;FMTTYPE=image/png:https://bibliotecamonfalcone.it/wp-content/uploads/2024/11/Screenshot-2024-11-11-alle-14.26.58.png
END:VEVENT
END:VCALENDAR