BEGIN:VCALENDAR
VERSION:2.0
PRODID:-//Biblioteca Comunale di Monfalcone - ECPv6.15.20//NONSGML v1.0//EN
CALSCALE:GREGORIAN
METHOD:PUBLISH
X-ORIGINAL-URL:https://bibliotecamonfalcone.it
X-WR-CALDESC:Eventi per Biblioteca Comunale di Monfalcone
REFRESH-INTERVAL;VALUE=DURATION:PT1H
X-Robots-Tag:noindex
X-PUBLISHED-TTL:PT1H
BEGIN:VTIMEZONE
TZID:Europe/Rome
BEGIN:DAYLIGHT
TZOFFSETFROM:+0100
TZOFFSETTO:+0200
TZNAME:CEST
DTSTART:20230326T010000
END:DAYLIGHT
BEGIN:STANDARD
TZOFFSETFROM:+0200
TZOFFSETTO:+0100
TZNAME:CET
DTSTART:20231029T010000
END:STANDARD
BEGIN:DAYLIGHT
TZOFFSETFROM:+0100
TZOFFSETTO:+0200
TZNAME:CEST
DTSTART:20240331T010000
END:DAYLIGHT
BEGIN:STANDARD
TZOFFSETFROM:+0200
TZOFFSETTO:+0100
TZNAME:CET
DTSTART:20241027T010000
END:STANDARD
BEGIN:DAYLIGHT
TZOFFSETFROM:+0100
TZOFFSETTO:+0200
TZNAME:CEST
DTSTART:20250330T010000
END:DAYLIGHT
BEGIN:STANDARD
TZOFFSETFROM:+0200
TZOFFSETTO:+0100
TZNAME:CET
DTSTART:20251026T010000
END:STANDARD
END:VTIMEZONE
BEGIN:VEVENT
DTSTART;TZID=Europe/Rome:20240614T180000
DTEND;TZID=Europe/Rome:20240614T180000
DTSTAMP:20260424T082927
CREATED:20240603T133527Z
LAST-MODIFIED:20240603T133527Z
UID:10000784-1718388000-1718388000@bibliotecamonfalcone.it
SUMMARY:I limiti non esistono
DESCRIPTION:Andrea non è una persona normale\, decisamente. È uno che corre\, innanzittuto\, e non si ferma mai: a piedi\, in bicicletta\, a nuoto\, con il sole e con la pioggia\, da solo o in mezzo a centinaia di persone. È anche uno che non si arrende\, uno di quelli che se si mette in testa una cosa la porta a termine in qualunque condizione\, senza accampare facili scuse o senza cercare scorciatoie. È uno che non ha rimpianti\, sicuramente\, che non ha mai perso l’occasione per sfidare se stesso\, alla ricerca di stimoli sempre nuovi. E poi\, certo\, rischiavamo di dimenticarcelo: Andrea Pusateri a quattro anni ha perso una gamba in un incidente. In questo libro\,Andrea racconta la sua storia. \nAndrea Pusateri nato a Monfalcone nel 1993\, all’età di 4 anni ha perso una gamba in un incidente ferroviario. Ma questo non l’ha mai fermato. Non ha mai rinunciato allo sport\, per questo è diventato paraciclista\, triatleta\, maratoneta e\, ultimo solo per questioni cronologiche\, Ironman.
URL:https://bibliotecamonfalcone.it/eventi/i-limiti-non-esistono/
CATEGORIES:Presentazioni
ATTACH;FMTTYPE=image/png:https://bibliotecamonfalcone.it/wp-content/uploads/2024/06/Pusateri-per-sito-Biblioteca.png
END:VEVENT
BEGIN:VEVENT
DTSTART;TZID=Europe/Rome:20240628T180000
DTEND;TZID=Europe/Rome:20240628T180000
DTSTAMP:20260424T082927
CREATED:20240613T145031Z
LAST-MODIFIED:20240613T145031Z
UID:10000785-1719597600-1719597600@bibliotecamonfalcone.it
SUMMARY:La moneta e la sua metamorfosi
DESCRIPTION:La moneta è certamente uno degli strumenti più quotidianamente utilizzati per svariate operazioni economiche e non solo. Alla moneta dedichiamo gran parte del nostro lavoro e molti dei nostri pensieri. Ma spesso ignoriamo i meccanismi del suo funzionamento\, la sua origine e il suo possibile e forse inatteso sviluppo. Il libro vuol fornire\, sia pur sinteticamente\, una chiave di lettura di questo importante e imprescindibile mezzo di registrazione\, comunicazione e pagamento che\, con l’introduzione delle nuove tecnologie\, è destinato a cambiar pelle. Da qui la sua “metamorfosi”. \nDi famiglia istriana\, Pio Baissero vive a Gorizia. Pubblicista\, autore e curatore di attività e incontri culturali sia in Italia che all’estero\, soprattutto in Austria\, dove ha perfezionato i suoi studi. È appassionato di storia\, con particolare riguardo a quella dell’area alpina e adriatica. \nIn caso di maltempo in Sala conferenze
URL:https://bibliotecamonfalcone.it/eventi/la-moneta-e-la-sua-metamorfosi/
CATEGORIES:Presentazioni
ATTACH;FMTTYPE=image/png:https://bibliotecamonfalcone.it/wp-content/uploads/2024/06/cartolina-Baissero.png
END:VEVENT
END:VCALENDAR