BEGIN:VCALENDAR
VERSION:2.0
PRODID:-//Biblioteca Comunale di Monfalcone - ECPv6.15.20//NONSGML v1.0//EN
CALSCALE:GREGORIAN
METHOD:PUBLISH
X-ORIGINAL-URL:https://bibliotecamonfalcone.it
X-WR-CALDESC:Eventi per Biblioteca Comunale di Monfalcone
REFRESH-INTERVAL;VALUE=DURATION:PT1H
X-Robots-Tag:noindex
X-PUBLISHED-TTL:PT1H
BEGIN:VTIMEZONE
TZID:Europe/Rome
BEGIN:DAYLIGHT
TZOFFSETFROM:+0100
TZOFFSETTO:+0200
TZNAME:CEST
DTSTART:20230326T010000
END:DAYLIGHT
BEGIN:STANDARD
TZOFFSETFROM:+0200
TZOFFSETTO:+0100
TZNAME:CET
DTSTART:20231029T010000
END:STANDARD
BEGIN:DAYLIGHT
TZOFFSETFROM:+0100
TZOFFSETTO:+0200
TZNAME:CEST
DTSTART:20240331T010000
END:DAYLIGHT
BEGIN:STANDARD
TZOFFSETFROM:+0200
TZOFFSETTO:+0100
TZNAME:CET
DTSTART:20241027T010000
END:STANDARD
BEGIN:DAYLIGHT
TZOFFSETFROM:+0100
TZOFFSETTO:+0200
TZNAME:CEST
DTSTART:20250330T010000
END:DAYLIGHT
BEGIN:STANDARD
TZOFFSETFROM:+0200
TZOFFSETTO:+0100
TZNAME:CET
DTSTART:20251026T010000
END:STANDARD
END:VTIMEZONE
BEGIN:VEVENT
DTSTART;TZID=Europe/Rome:20240510T180000
DTEND;TZID=Europe/Rome:20240510T180000
DTSTAMP:20260424T101616
CREATED:20240422T074730Z
LAST-MODIFIED:20240430T103207Z
UID:10000776-1715364000-1715364000@bibliotecamonfalcone.it
SUMMARY:La mia fiaba per te
DESCRIPTION:Rosella Soranzo inizia a scrivere da `grande’ ovvero nel 2018 quando riscopre la libertà del suo tempo libero\, dopo aver lavorato tanti anni in banca. Le fiabe diventano per l’autrice un modo per comunicare con i piccoli pazienti\, con la speranza di prenderli per mano\, attraverso l’incanto di un semplice palloncino e tanta fantasia\, per farli volare sempre più in alto. \nIl libro raccoglie le fiabe nate per regalare un po’ di leggerezza ai bambini ricoverati presso il Burlo Garofolo di Trieste attraverso l’attività di volontariato con l’Associazione “Astro per il sorriso dei bambini in ospedale” con la quale collabora dal 2018.\nL’Associazione Triestina “Astro” dal 1999 opera presso l’Ospedale Pediatrico Burlo Garofolo di Trieste. Dona ai bambini\, che con mamma e/o papà sono ricoverati in ospedale\, un po’ di leggerezza grazie alla presenza giornaliera dei suoi volontari che raccontano storie\, truccano bimbi\, dipingono\, giocano a calcetto\, divertono con la magia dei clown e dei burattini. Astro offre inoltre aiuti economici alle tante famiglie che arrivano da molteplici città italiane ed estere\, affrontando spesso costi impegnativi. \nSarà presente il Presidente di Astro Roberto Cook\, che spiegherà brevemente l’attività dell’Associazione. \nIl testo è stato finanziato dall’intervento di Finzicarta\, Gruppo Hermada Flavio Vidonis\, Nadiaoro\, Proloco Mitreo-Duino Aurisina. \nL’intero ricavato della vendita libri sarà devoluto all’Associazione Astro.
URL:https://bibliotecamonfalcone.it/eventi/la-mia-fiaba-per-te/
CATEGORIES:Presentazioni
ATTACH;FMTTYPE=image/png:https://bibliotecamonfalcone.it/wp-content/uploads/2024/04/locandina-Soranzo.png
END:VEVENT
BEGIN:VEVENT
DTSTART;TZID=Europe/Rome:20240511T100000
DTEND;TZID=Europe/Rome:20240511T100000
DTSTAMP:20260424T101616
CREATED:20240423T120241Z
LAST-MODIFIED:20240423T120241Z
UID:10000777-1715421600-1715421600@bibliotecamonfalcone.it
SUMMARY:Chi ha ucciso Simonetta Cesaroni?
DESCRIPTION:Il 7 agosto del 1990 Simonetta Cesaroni viene trovata morta all’interno di un ufficio al civico 2 di via Carlo Poma\, nei pressi di Piazza Mazzini a Roma. Il caso non è mai stato risolto.\nIl volume intende individuare tutti i soggetti che ebbero un ruolo diretto o indiretto nel delitto: il portiere dello stabile Pietrino Vanacore\, Federico Valle\, nipote di un inquilino di via Poma\, Raniero Busco\, ex fidanzato di Simonetta\, Francesco Caracciolo di Sarno\, all’epoca presidente regionale dell’Associazione italiana Alberghi per la Gioventù dove Simonetta lavorava.\nLo scopo del libro è quindi delineare le dinamiche che si svilupparono tra i vari attori\, protagonisti\, comprimari e comparse di questo orrendo delitto. Il misterioso cold case si rivela attraverso le pagine di “Chi ha ucciso Simonetta” mediante i verbali di un’inchiesta ancora aperta e le testimonianze raccolte dall’autrice. \nRaffaella Fanelli\, giornalista\, ha scritto per numerose testate\, tra le quali la Repubblica\, Sette – Corriere della Sera\, Panorama\, Oggi\, e altrettante trasmissioni televisive\, da Quarto grado a Verissimo a Chi l’ha visto? Ha realizzato interviste a Salvatore Riina\, Angelo Provenzano\, Vincenzo Vinciguerra\, Valerio Fioravanti. Nel 2018 pubblica La verità del Freddo (Chiarelettere). Nel 2019 una sua inchiesta giornalistica permette alla procura di Roma di riaprire le indagini sull’omicidio di Mino Pecorelli e\, nel 2020\, dà alle stampe\, con Ponte alle Grazie\, La strage continua. La vera storia dell’omicidio di Mino Pecorelli. Nel 2022 pubblica OP\, il podcast sul delitto del giornalista. Del 2023 è Chi ha ucciso Simonetta Cesaroni? (Ponte alle Grazie).
URL:https://bibliotecamonfalcone.it/eventi/chi-ha-ucciso-simonetta-cesaroni/
CATEGORIES:Presentazioni
ATTACH;FMTTYPE=image/png:https://bibliotecamonfalcone.it/wp-content/uploads/2024/04/Chi-ha-ucciso-Simonetta-Cesaroni.png
END:VEVENT
BEGIN:VEVENT
DTSTART;TZID=Europe/Rome:20240517T180000
DTEND;TZID=Europe/Rome:20240517T180000
DTSTAMP:20260424T101616
CREATED:20240502T123323Z
LAST-MODIFIED:20240502T123323Z
UID:10000778-1715968800-1715968800@bibliotecamonfalcone.it
SUMMARY:Scrittori triestini del Novecento
DESCRIPTION:Fra la fine dell’Ottocento e il Novecento ci fu a Trieste un’incredibile fioritura di grandi artisti\, Italo Svevo\, Scipio Slataper\, Umberto Saba\, Giani Stuparich e molti altri\, scrittori\, poeti\, saggisti che apparvero quasi contemporaneamente sulla scena letteraria triestina. Con i loro scritti essi interpretarono la loro epoca interessata da profonde trasformazioni\, hanno narrato storie più o meno autobiografiche\, individuando i tratti più caratteristici della società triestina molto influenzata dalla lunga appartenenza all’Impero austroungarico\, indagandone le angosce\, i turbamenti e le speranze. \nAnna Maria Sanguineti è nata e vive a Monfalcone. Laureata in Lingue e Letteratura Straniere all’Università di Venezia\, ha insegnato lingua tedesca in vari istituti scolastici della provincia di Gorizia. Ha pubblicato La Colonìa della Solvay (2007)\, La cucina di Casa Rubbia (2010)\, Solvay-Una sodiera a Monfalcone 1911-1969 (2013)\, Il Litorale Adriatico e gli Asburgo fra storia e cultura (2014)\, Fra negozi e botteghe nella Monfalcone del Novecento (2015)\, La fresca aria della giovinezza (2015)\, Nata in una terra di confine (2016)\, Botteghe e vecchi negozi nella Monfalcone di un tempo (2016)\, Via Sant’Ambrogio fra negozi e botteghe (2017)\, L’arte dei fiori pressati (2017).
URL:https://bibliotecamonfalcone.it/eventi/scrittori-triestini-del-novecento/
CATEGORIES:Presentazioni
ATTACH;FMTTYPE=image/png:https://bibliotecamonfalcone.it/wp-content/uploads/2024/05/locandina-Sanguineti.png
END:VEVENT
BEGIN:VEVENT
DTSTART;TZID=Europe/Rome:20240522T180000
DTEND;TZID=Europe/Rome:20240522T180000
DTSTAMP:20260424T101616
CREATED:20240520T101534Z
LAST-MODIFIED:20240520T101600Z
UID:10000780-1716400800-1716400800@bibliotecamonfalcone.it
SUMMARY:Monfalcone 6 febbraio 1950. Istituzione della Capitaneria di Porto
DESCRIPTION:Nel 2020 la Capitaneria di Porto di Monfalcone ha compiuto 70 anni. Fu fondata il primo aprile 1950 e il Maggiore di Porto Giuseppe Magaletti ne assunse il comando; in quel periodo in porto ci si preparava a demolire la turbonave passeggeri Conte di Savoia\, il più importante smantellamento di uno scafo a Monfalcone. La storia della Capitaneria si intreccia con quella del porto stesso\, evolvendosi per adeguarsi alle crescenti esigenze di specializzazione e controllo dell’approdo. Sebbene le risorse e le sfide siano mutate\, il senso di servizio e la dedizione al territorio rimangono saldi. Oggi\, con circa 140 membri distribuiti sulle 5 sedi compartimentali di Monfalcone\, Grado\, Porto Nogaro\, Marano Lagunare e Lignano Sabbiadoro\, la Capitaneria continua a preservare e arricchire l’eredità lasciata dai suoi predecessori\, mantenendo un forte legame con la comunità e adattandosi alle nuove funzioni al servizio della collettività. \nGuglielmo Evangelista\, nato a Broni (PV) nel 1951\, è stato ufficiale delle Capitanerie di Porto e successivamente funzionario di un Ente Pubblico. Ha al suo attivo nove libri e oltre 400 articoli che riguardano storia\, economia e trasporti. Collabora con numerosi periodici specializzati fra cui la “Rivista Marittima”.
URL:https://bibliotecamonfalcone.it/eventi/monfalcone-6-febbraio-1950-istituzione-della-capitaneria-di-porto/
CATEGORIES:Presentazioni
ATTACH;FMTTYPE=image/png:https://bibliotecamonfalcone.it/wp-content/uploads/2024/05/locandina-Evangelista.png
END:VEVENT
BEGIN:VEVENT
DTSTART;TZID=Europe/Rome:20240524T180000
DTEND;TZID=Europe/Rome:20240524T180000
DTSTAMP:20260424T101616
CREATED:20240515T072153Z
LAST-MODIFIED:20240515T072153Z
UID:10000779-1716573600-1716573600@bibliotecamonfalcone.it
SUMMARY:Tutta un’altra Grande Guerra: quella vera. Tredici saggi sull’Italia nella Prima Guerra Mondiale
DESCRIPTION:Attraverso i saggi indipendenti contenuti nel volume\, ognuno dedicato a un diverso argomento\, l’autore intende fornire una visione diversa della Prima Guerra Mondiale\, tenendo conto della realtà dei fatti e tentando di demolire luoghi comuni e falsità che ancora circondando la narrazione del grande conflitto. Paoletti spiega come la neutralità italiana sia stata ben pianificata\, come l’apporto degli Alleati fu cruciale per le materie prime ma limitato in uomini\, come la carenza di materie prime stimolò lo sviluppo infrastrutturale. Riguardo ai combattimenti e ai mezzi\, l’autore sostiene che l’Italia fu\, con la Russia\, l’unico Paese alleato ad invadere il territorio nemico\, producendo tra l’altro l’unico bombardiere adoperato su larga scala da tutti gli Alleati. Ridimensiona infine la sconfitta di Caporetto\, sottolineando invece come la vittoria italiana influenzò la resa tedesca in Francia nel 1918\, anticipando l’offensiva prevista dagli Alleati per il 1919. \nCiro Paoletti\, classe 1962\, è laureato in Scienze politiche a Roma\, e ha conseguito un Dottorato di Ricerca a Parigi. Per tre anni ufficiale di fanteria\, è membro di quattro associazioni e istituti storici italiani e tre stranieri\, e fa parte del consiglio scientifico di tre riviste estere. Ha pubblicato oltre 460 lavori\, fra cui 32 libri\, in Italia e all’estero\, ricevendo due premi in Italia e uno in America. Ha collaborato con gli Uffici Storici d’Esercito\, Marina ed Aeronautica dal 1995 al 2014\, con la Rivista Marittima dal 1997 al 2013\, con “Lega Navale” dal 2011 al 2020 e con “Marinai d’Italia” dal 2015 al 2020.
URL:https://bibliotecamonfalcone.it/eventi/tutta-unaltra-grande-guerra-quella-vera-tredici-saggi-sullitalia-nella-prima-guerra-mondiale/
CATEGORIES:Presentazioni
ATTACH;FMTTYPE=image/png:https://bibliotecamonfalcone.it/wp-content/uploads/2024/05/locandina-Paoletti.png
END:VEVENT
BEGIN:VEVENT
DTSTART;TZID=Europe/Rome:20240531T180000
DTEND;TZID=Europe/Rome:20240531T180000
DTSTAMP:20260424T101616
CREATED:20240522T083636Z
LAST-MODIFIED:20240522T083636Z
UID:10000781-1717178400-1717178400@bibliotecamonfalcone.it
SUMMARY:Camillo Bellieni ed Emilio Lussu.  Meridionalismo\, sardismo e antifascismo dal primo dopoguerra alla svolta autoritaria 1919-1926
DESCRIPTION:Camillo Bellieni\, ufficiale della Brigata “Sassari” e leader dei Combattenti in Sardegna\, fu una figura chiave nel primo dopoguerra italiano. Antifascista intransigente\, subì le conseguenze della sua opposizione al regime. Tra gli uomini che con Bellieni ebbero non solo stretti rapporti di amicizia ma di appassionata collaborazione politica\, spicca spicca Emilio Lussu. Il libro\, corredato da un apparato iconografico di straordinario valore\, rivela la forza di pensiero e le sfide personali di Bellieni\, offrendo una prospettiva preziosa sulla storia italiana meno conosciuta. \nAlberto Monteverde\, nato a Cagliari nel 1963\, è giornalista\, ricercatore e storico specializzato in Studi Sardi e storia militare. Collabora con il quotidiano L’Unione Sarda. Ufficiale della Riserva Selezionata dell’Esercito\, ha prestato servizio presso l’Ufficio Storico dello Stato Maggiore dell’Esercito. È membro della Società Italiana di Storia Militare e della Società Italiana per lo Studio della Storia Contemporanea (SISSCO). \nPaolo Pozzato\, nato a Bassano del Grappa nel 1958\, è fra i più insigni storici del primo conflitto mondiale. Docente\, autore e traduttore\, ha preso parte quale esperto al ciclo di trasmissioni curate da Paolo Mieli per Rai Storia sulla Grande Guerra nel centenario del conflitto. È consulente per la Storia militare dello Stato Maggiore della Difesa e membro della Società Italiana di Storia Militare.
URL:https://bibliotecamonfalcone.it/eventi/camillo-bellieni-ed-emilio-lussu-meridionalismo-sardismo-e-antifascismo-dal-primo-dopoguerra-alla-svolta-autoritaria-1919-1926/
CATEGORIES:Presentazioni
ATTACH;FMTTYPE=image/png:https://bibliotecamonfalcone.it/wp-content/uploads/2024/05/locandina-Monteverde.png
END:VEVENT
END:VCALENDAR