BEGIN:VCALENDAR
VERSION:2.0
PRODID:-//Biblioteca Comunale di Monfalcone - ECPv6.15.20//NONSGML v1.0//EN
CALSCALE:GREGORIAN
METHOD:PUBLISH
X-WR-CALNAME:Biblioteca Comunale di Monfalcone
X-ORIGINAL-URL:https://bibliotecamonfalcone.it
X-WR-CALDESC:Eventi per Biblioteca Comunale di Monfalcone
REFRESH-INTERVAL;VALUE=DURATION:PT1H
X-Robots-Tag:noindex
X-PUBLISHED-TTL:PT1H
BEGIN:VTIMEZONE
TZID:Europe/Rome
BEGIN:DAYLIGHT
TZOFFSETFROM:+0100
TZOFFSETTO:+0200
TZNAME:CEST
DTSTART:20230326T010000
END:DAYLIGHT
BEGIN:STANDARD
TZOFFSETFROM:+0200
TZOFFSETTO:+0100
TZNAME:CET
DTSTART:20231029T010000
END:STANDARD
BEGIN:DAYLIGHT
TZOFFSETFROM:+0100
TZOFFSETTO:+0200
TZNAME:CEST
DTSTART:20240331T010000
END:DAYLIGHT
BEGIN:STANDARD
TZOFFSETFROM:+0200
TZOFFSETTO:+0100
TZNAME:CET
DTSTART:20241027T010000
END:STANDARD
BEGIN:DAYLIGHT
TZOFFSETFROM:+0100
TZOFFSETTO:+0200
TZNAME:CEST
DTSTART:20250330T010000
END:DAYLIGHT
BEGIN:STANDARD
TZOFFSETFROM:+0200
TZOFFSETTO:+0100
TZNAME:CET
DTSTART:20251026T010000
END:STANDARD
END:VTIMEZONE
BEGIN:VEVENT
DTSTART;TZID=Europe/Rome:20240404T180000
DTEND;TZID=Europe/Rome:20240404T180000
DTSTAMP:20260424T113619
CREATED:20240327T114732Z
LAST-MODIFIED:20240327T114732Z
UID:10000709-1712253600-1712253600@bibliotecamonfalcone.it
SUMMARY:Storia del Friuli e dei Friulani dalle origini a noi
DESCRIPTION:A seguire proiezione del documentario “Patriae. Viaç tal Patriarcjât di Aquilee” di Marco D’Agostini\, co-prodotto da ARLeF\, Informazione Friulana e ALL
URL:https://bibliotecamonfalcone.it/eventi/storia-del-friuli-e-dei-friulani-dalle-origini-a-noi/
CATEGORIES:Presentazioni
ATTACH;FMTTYPE=image/png:https://bibliotecamonfalcone.it/wp-content/uploads/2024/03/definitiva_locandina-Fieste-da-Patrie-Friul.png
END:VEVENT
BEGIN:VEVENT
DTSTART;TZID=Europe/Rome:20240405T180000
DTEND;TZID=Europe/Rome:20240405T180000
DTSTAMP:20260424T113619
CREATED:20240327T090817Z
LAST-MODIFIED:20240327T090817Z
UID:10000707-1712340000-1712340000@bibliotecamonfalcone.it
SUMMARY:Tuteliamo: responsabilità e tutela dei minori in ambito sportivo
DESCRIPTION:Abuso\, negligenza\, violenza\, responsabilità\, sono alcune delle parole chiave di una realtà scomoda che si preferisce ignorare. Consapevolezza\, vigilanza\, prevenzione\, cultura\, sono gli elementi imprescindibili che gli adulti devono perseguire a ogni costo. \nQuesto libro\, ha l’ardire di cercare di creare una coscienza sull’argomento tutela minori\, insieme alla consapevolezza che\, invertire il trend negativo sugli abusi e sulla violenza dei minori in ambito sportivo\, si può. Attraverso numerosi esempi di casi concreti accaduti anche nella nostra Regione\, verranno offerti spunti di riflessione per una diversa e maggior consapevolezza utile a innalzare il livello dell’attenzione a beneficio dei minori. \nLuca Mariano Modolo (Trieste\, 1977) è laureato in Psicologia e Master in Psicologia dello Sport (2006). Psicologo dello Sport per Udinese\, Triestina e Pordenone calcio\, segue atleti professionisti di varie discipline sportive. Dal 2010 è il referente regionale Figc – Sgs dell’area psicologica. Docente ai corsi per il Settore Tecnico – FIGC\, Uefa C e Licenza D e docente abilitato della Scuola Regionale dello Sport-Coni Friuli Venezia Giulia. Dal 2020 è anche referente ed esperto regionale della tutela minori per Coni e FIGC-SGS. \nRoberto Alessio (Trieste\, 1966)\, una laurea in Giurisprudenza all’Università di Bologna. Ha pubblicato con WebsterPress “Nella valigia dell’allenatore  – Viaggio di un allenatore consapevole” (2014) e “Allenatori e Istruttori a responsabilità limitata? L’obbligo di vigilanza e l’infortunio ad atleti e alunni” (2019). Ha allenato in Italia e all’estero. Docente abilitato della Scuola Regionale dello Sport-Coni Friuli Venezia Giulia\, dal 2020 è anche referente ed esperto regionale della tutela minori per Coni e Figc-Sgs.
URL:https://bibliotecamonfalcone.it/eventi/tuteliamo-responsabilita-e-tutela-dei-minori-in-ambito-sportivo/
CATEGORIES:Presentazioni
ATTACH;FMTTYPE=image/png:https://bibliotecamonfalcone.it/wp-content/uploads/2024/03/TUTELIAMO-SchedaPubblicazione-Eventi-2024.png
END:VEVENT
BEGIN:VEVENT
DTSTART;TZID=Europe/Rome:20240413T103000
DTEND;TZID=Europe/Rome:20240413T103000
DTSTAMP:20260424T113619
CREATED:20240327T114519Z
LAST-MODIFIED:20240327T114519Z
UID:10000708-1713004200-1713004200@bibliotecamonfalcone.it
SUMMARY:La casa della giustizia perduta. Storia di morti per l'amianto
DESCRIPTION:
URL:https://bibliotecamonfalcone.it/eventi/la-casa-della-giustizia-perduta-storia-di-morti-per-lamianto/
CATEGORIES:Presentazioni
ATTACH;FMTTYPE=image/png:https://bibliotecamonfalcone.it/wp-content/uploads/2024/03/definitiva_locandina-Fieste-da-Patrie-Friul.png
END:VEVENT
BEGIN:VEVENT
DTSTART;TZID=Europe/Rome:20240419T180000
DTEND;TZID=Europe/Rome:20240419T180000
DTSTAMP:20260424T113619
CREATED:20240415T072028Z
LAST-MODIFIED:20240415T072101Z
UID:10000771-1713549600-1713549600@bibliotecamonfalcone.it
SUMMARY:Giovanni (Nino) Fragiacomo: una vita di fede e impegno (1922-2022). Testimonianze e memorie
DESCRIPTION:In memoria di Giovanni (Nino) Fragiacomo\, deceduto pochi mesi dopo aver compiuto i 100 anni (30 ottobre 2022)\, la Parrocchia di S. Giuseppe ha realizzato una pubblicazione per fare memoria di un’esistenza vissuta pienamente nel mondo del lavoro\, nell’associazionismo cattolico\, nel sindacato\, nelle Acli\, nell’ambito politico e nel mondo ecclesiale. Un impegno che l’ha reso un vero testimone della vita monfalconese. Il volume raccoglie i saluti di commiato di quanti l’hanno conosciuto e apprezzato\, soprattutto quale educatore e catechista presso la Parrocchia di San Giuseppe. È infatti con i giovani che Fragiacomo ha dato il massimo della sua cura e sensibilità\, tanto che a 96 anni era ancora attivo come catechista (“il catechista più anziano d’Italia…” per il settimanale Credere del 15 luglio 2018). In accordo con la famiglia\, sono stati inseriti alcuni contributi originali sulla storia di Monfalcone a partire dalla fine della Seconda Guerra\, scritti ricchi di dettagli\, per lo più inediti. Negli ultimi anni\, Nino aveva sentito l’esigenza di lasciare memoria scritta di una serie di eventi storici riguardanti la ramificata e incisiva presenza dei cattolici nella sua comunità\, eventi di cui era stato testimone diretto e spesso parte attiva. Di particolare interesse le riflessioni tratte dai “quaderni”\, che riguardano soprattutto la formazione dei giovani nel secondo dopoguerra\, periodo nel quale era essenziale ricostruire un tessuto sociale basato su solidi valori condivisi. \nNato a Panzano nel 1922 da una famiglia operaia\, primo di sei figli\, a 14 anni Giovanni Fragiacomo inizia a lavorare in cantiere dove\, attraverso i corsi di formazione interna\, diventa prima disegnatore e poi impiegato tecnico\, raggiungendo il massimo livello impiegatizio. È tra i fondatori della Democrazia Cristiana a Monfalcone\, presidente diocesano della Giac (Gioventù italiana di Azione cattolica) nel 1948 e\, per molti anni\, rappresentante del sindacato Cisl nella Commissione interna del cantiere navale. Dal 1960 al 1975\, per tre mandati\, è eletto nelle file della Democrazia cristiana in Consiglio comunale\, ricoprendo le cariche di assessore all’Assistenza e alle Finanze e di Vicesindaco nelle Giunte guidate dai sindaci Romani e Versace. In qualità di assessore all’Assistenza\, è stato commissario della Croce rossa e tra i fondatori della sezione della locale Aias (Associazione italiana assistenza spastici). Lasciata la politica e raggiunta l’età della pensione\, si dedica a tempo pieno alle iniziative parrocchiali\, in particolare alla catechesi dei giovani. Notevole in questi anni è anche l’impegno nell’Azione cattolica\, di cui ricopre nella seconda metà degli anni Ottanta la funzione di presidente diocesano\, e nelle Acli\, prima a Gorizia e poi a Monfalcone.
URL:https://bibliotecamonfalcone.it/eventi/giovanni-nino-fragiacomo-una-vita-di-fede-e-impegno-1922-2022-testimonianze-e-memorie/
CATEGORIES:Presentazioni
ATTACH;FMTTYPE=image/png:https://bibliotecamonfalcone.it/wp-content/uploads/2024/04/cartolina-Fragiacomo.png
END:VEVENT
END:VCALENDAR