BEGIN:VCALENDAR
VERSION:2.0
PRODID:-//Biblioteca Comunale di Monfalcone - ECPv6.15.20//NONSGML v1.0//EN
CALSCALE:GREGORIAN
METHOD:PUBLISH
X-ORIGINAL-URL:https://bibliotecamonfalcone.it
X-WR-CALDESC:Eventi per Biblioteca Comunale di Monfalcone
REFRESH-INTERVAL;VALUE=DURATION:PT1H
X-Robots-Tag:noindex
X-PUBLISHED-TTL:PT1H
BEGIN:VTIMEZONE
TZID:Europe/Rome
BEGIN:DAYLIGHT
TZOFFSETFROM:+0100
TZOFFSETTO:+0200
TZNAME:CEST
DTSTART:20230326T010000
END:DAYLIGHT
BEGIN:STANDARD
TZOFFSETFROM:+0200
TZOFFSETTO:+0100
TZNAME:CET
DTSTART:20231029T010000
END:STANDARD
BEGIN:DAYLIGHT
TZOFFSETFROM:+0100
TZOFFSETTO:+0200
TZNAME:CEST
DTSTART:20240331T010000
END:DAYLIGHT
BEGIN:STANDARD
TZOFFSETFROM:+0200
TZOFFSETTO:+0100
TZNAME:CET
DTSTART:20241027T010000
END:STANDARD
BEGIN:DAYLIGHT
TZOFFSETFROM:+0100
TZOFFSETTO:+0200
TZNAME:CEST
DTSTART:20250330T010000
END:DAYLIGHT
BEGIN:STANDARD
TZOFFSETFROM:+0200
TZOFFSETTO:+0100
TZNAME:CET
DTSTART:20251026T010000
END:STANDARD
END:VTIMEZONE
BEGIN:VEVENT
DTSTART;TZID=Europe/Rome:20240202T180000
DTEND;TZID=Europe/Rome:20240202T180000
DTSTAMP:20260424T143927
CREATED:20240129T154930Z
LAST-MODIFIED:20240129T155021Z
UID:10000691-1706896800-1706896800@bibliotecamonfalcone.it
SUMMARY:Sotto un cielo senza confini
DESCRIPTION:Livio Ciancarella\, nato a Gorizia\, è stato un militare operativo per quasi 40 anni. È laureato in Scienze Strategiche con Master in Scienze Internazionali Strategico-Militari. Ha pubblicato: “Sotto un cielo senza confini” (2016) vincitore del premio San Domenichino\, sul bisnonno gendarme\, “Cormons e Brazzano 1917-1918” (2018) sul ritorno austriaco a Cormons\, “Intrigo in Afghanistan” (2023) giallo ambientato nella nostra missione conclusa. \nInsegna pro-bono dal 2021 all’Università della Terza Età e delle Libere Età. Sulla guerra fredda fa da guida sui luoghi ove insistono bunker di questo periodo. È appassionato di apicoltura e cura tre arnie presso Treppo Grande (Ud). \nSotto un cielo senza confini \nIntorno a una storia d’amore d’altri tempi si dipana il racconto della vita del bisnonno dell’autore\, un fedele gendarme nel Friuli austriaco e della bisnonna\, rampolla di una benestante famiglia cormonese di spiccate simpatie italianiste. La loro unione\, avversata dal parentado\, si svilupperà comunque e con forza rara\, nonostante le avversità e la tragedia della prima guerra mondiale sotto una volta celeste indifferente ai confini umani. Una storia ricostruita a partire dai racconti di famiglia e confermata dai documenti d’archivio riguardanti il Litorale austriaco e i destini di migliaia di Italiani sudditi dell’aquila bicipite.
URL:https://bibliotecamonfalcone.it/eventi/un-cielo-senza-confini/
CATEGORIES:Presentazioni
ATTACH;FMTTYPE=image/png:https://bibliotecamonfalcone.it/wp-content/uploads/2024/01/locandina-Ciancarella.png
END:VEVENT
BEGIN:VEVENT
DTSTART;TZID=Europe/Rome:20240209T180000
DTEND;TZID=Europe/Rome:20240209T180000
DTSTAMP:20260424T143927
CREATED:20240125T135319Z
LAST-MODIFIED:20240125T135319Z
UID:10000690-1707501600-1707501600@bibliotecamonfalcone.it
SUMMARY:Ocio de soto: pirole de sageza triestina
DESCRIPTION:“El mona xe come el diamante: per sempre”; “Se te son coto\, zonta kren”; “Solo due persone pol cambiarte: mama e la badante”; “No basta far una capela per sentirse Michelangelo”.  Ocio de soto è una divertentissima raccolta di aforismi in dialetto triestino. Risate assicurate! \nGianfranco Pacco\, geometra\, sposato con due figli\, vive a Trieste. Finita la carriera cestistica nelle “minors” ha iniziato a recitare e scrivere commedie\, divertendosi a trasmettere la sua passione per il palcoscenico ai ragazzi. Collabora con la pagina satirica El cinciut del quotidiano Il Piccolo. In coppia con Catine\, cabarettista friulana\, ha appena iniziato la terza edizione della sit-com Taj Break\, in onda su Telefriuli.
URL:https://bibliotecamonfalcone.it/eventi/ocio-de-soto-pirole-de-sageza-triestina/
CATEGORIES:Presentazioni
ATTACH;FMTTYPE=image/png:https://bibliotecamonfalcone.it/wp-content/uploads/2024/01/Screenshot-2024-01-25-alle-14.51.21.png
END:VEVENT
END:VCALENDAR