BEGIN:VCALENDAR
VERSION:2.0
PRODID:-//Biblioteca Comunale di Monfalcone - ECPv6.15.20//NONSGML v1.0//EN
CALSCALE:GREGORIAN
METHOD:PUBLISH
X-WR-CALNAME:Biblioteca Comunale di Monfalcone
X-ORIGINAL-URL:https://bibliotecamonfalcone.it
X-WR-CALDESC:Eventi per Biblioteca Comunale di Monfalcone
REFRESH-INTERVAL;VALUE=DURATION:PT1H
X-Robots-Tag:noindex
X-PUBLISHED-TTL:PT1H
BEGIN:VTIMEZONE
TZID:Europe/Rome
BEGIN:DAYLIGHT
TZOFFSETFROM:+0100
TZOFFSETTO:+0200
TZNAME:CEST
DTSTART:20230326T010000
END:DAYLIGHT
BEGIN:STANDARD
TZOFFSETFROM:+0200
TZOFFSETTO:+0100
TZNAME:CET
DTSTART:20231029T010000
END:STANDARD
BEGIN:DAYLIGHT
TZOFFSETFROM:+0100
TZOFFSETTO:+0200
TZNAME:CEST
DTSTART:20240331T010000
END:DAYLIGHT
BEGIN:STANDARD
TZOFFSETFROM:+0200
TZOFFSETTO:+0100
TZNAME:CET
DTSTART:20241027T010000
END:STANDARD
BEGIN:DAYLIGHT
TZOFFSETFROM:+0100
TZOFFSETTO:+0200
TZNAME:CEST
DTSTART:20250330T010000
END:DAYLIGHT
BEGIN:STANDARD
TZOFFSETFROM:+0200
TZOFFSETTO:+0100
TZNAME:CET
DTSTART:20251026T010000
END:STANDARD
END:VTIMEZONE
BEGIN:VEVENT
DTSTART;TZID=Europe/Rome:20240120T103000
DTEND;TZID=Europe/Rome:20240120T103000
DTSTAMP:20260424T161856
CREATED:20240110T134155Z
LAST-MODIFIED:20240110T134155Z
UID:10000685-1705746600-1705746600@bibliotecamonfalcone.it
SUMMARY:Un miracolo per l'Italia
DESCRIPTION:“Stiamo assistendo e subendo uno scontro planetario dopo la fine del Mondo bipolare. Stati Uniti\, Nato e Unione Europea promuovono un Nuovo Ordine Mondiale unipolare; scatenano guerre finanziarie\, ideologiche\, biologiche\, psicologiche e convenzionali\, con il rischio dell’apocalisse nucleare. In gioco c’è il futuro dell’Occidente\, con il venir meno della supremazia del dollaro\, lo strapotere della grande finanza speculativa globalizzata\, il Mondo sottomesso a un debito incontenibile e inestinguibile\, l’orientamento a trasformare l’umano in transumano e la realtà in virtualità tramite la digitalizzazione\, robotizzazione\, intelligenza artificiale\, biotecnologie\, manipolazione genetica”. \nMagdi Cristiano Allam è nato al Cairo nel 1952 ed è cittadino italiano dal 1986. Laureato in Sociologia. Ha svolto l’attività di giornalista. È stato Editorialista e Inviato speciale di “La Repubblica” e vice-Direttore ad personam del “Corriere della Sera”. Dal 2009 al 2014 è stato Membro del Parlamento Europeo. Ha svolto dei seminari nelle università e centri di formazione. Tiene conferenze in tutt’Italia. È stato musulmano per 56 anni\, ha creduto in un “islam moderato” fino a quando non è stato condannato a morte sia da terroristi islamici sia da sedicenti “musulmani moderati”. Dal 2003 vive sotto scorta. Nel 2008 si è convertito al cristianesimo ricevendo il battesimo da Papa Benedetto XVI. Nel 2013 si è dissociato dalla Chiesa di Papa Francesco pur salvaguardando la fede in Gesù. Nel 2009 ha fondato il Partito “Io amo l’Italia” e nel 2021 ha dato vita alla Comunità “Casa della Civiltà”. Ha scritto 17 libri su islam\, immigrazione\, crisi delle civiltà. Nel luglio 2023 ha pubblicato “Un miracolo per l’Italia”\, una rappresentazione delle realtà che sostanziano la nostra civiltà decaduta e la fede nella rinascita.
URL:https://bibliotecamonfalcone.it/eventi/un-miracolo-per-litalia/
CATEGORIES:Presentazioni
ATTACH;FMTTYPE=image/png:https://bibliotecamonfalcone.it/wp-content/uploads/2024/01/locandina-Magdi.png
END:VEVENT
BEGIN:VEVENT
DTSTART;TZID=Europe/Rome:20240123T180000
DTEND;TZID=Europe/Rome:20240123T180000
DTSTAMP:20260424T161856
CREATED:20240111T160339Z
LAST-MODIFIED:20240111T160339Z
UID:10000687-1706032800-1706032800@bibliotecamonfalcone.it
SUMMARY:Breve storia dei sommergibilisti italiani
DESCRIPTION:Sulla storia dei sommergibili italiani sono state scritte molte opere di cui alcune anche di ottima qualità. Invece poco si è scritto sui sommergibilisti italiani\, cioè di coloro che hanno ideato\, progettato\, costruito e portato per mare i nostri sommergibili. Quest’opera è dedicata proprio a loro. Nel volume si ricostruiscono i principi operativi utilizzati nella progettazione e si analizzano le soluzioni tecniche adottate.
URL:https://bibliotecamonfalcone.it/eventi/breve-storia-dei-sommergibilisti-italiani/
CATEGORIES:Presentazioni
ATTACH;FMTTYPE=image/png:https://bibliotecamonfalcone.it/wp-content/uploads/2024/01/locandina-Turrini.png
END:VEVENT
BEGIN:VEVENT
DTSTART;TZID=Europe/Rome:20240126T180000
DTEND;TZID=Europe/Rome:20240126T180000
DTSTAMP:20260424T161856
CREATED:20240117T143023Z
LAST-MODIFIED:20240117T143039Z
UID:10000688-1706292000-1706292000@bibliotecamonfalcone.it
SUMMARY:Il diario di Lucia Miniussi
DESCRIPTION:Nel 1944 Lucia Miniussi è una giovane segretaria monfalconese impiegata in uno studio legale. Con i primi segnali di allarme aereo ed i sorvoli di formazioni di “fortezze volanti” sulla città decide di redigere un diario: la sua precisione cronometrica e quasi giornalistica immortala momenti segnanti degli anni dei bombardamenti aerei monfalconesi. Recentemente il suo diario è stato ritrovato dalla figlia Magda Settomini. \nIn questa serata la ricostruzione degli eventi\, grazie agli studi dell’Associazione Galleria Rifugio\, si fonde alle parole di Lucia Miniussi e ai ricordi di sua figlia Magda formando un racconto corale che inizia esattamente otto decenni fa. \nQuesta iniziativa rientra nell’ambito del progetto “Fa che no soni la sirena!” (CCM / Ecomuseo Territori / Associazione Galleria Rifugio di Monfalcone). \nPietro Commisso (Monfalcone 1986)\, appassionato fin dall’adolescenza alla storia militare (e non solo) del territorio monfalconese\, inizia nel 2011 ad approfondire le proprie conoscenze a riguardo della Galleria Rifugio di Monfalcone. Presidente dell’Associazione Galleria Rifugio e volontario dell’International Bomber Command Center di Lincoln (UK) ha pubblicato nel 2019 il volume “La Galleria Rifugio di Monfalcone” assieme a Maurizio Radacich\, storico del Club Alpinistico Triestino.
URL:https://bibliotecamonfalcone.it/eventi/il-diario-di-lucia-miniussi/
CATEGORIES:Presentazioni
ATTACH;FMTTYPE=image/png:https://bibliotecamonfalcone.it/wp-content/uploads/2024/01/locandina-Miniussi.png
END:VEVENT
END:VCALENDAR