BEGIN:VCALENDAR
VERSION:2.0
PRODID:-//Biblioteca Comunale di Monfalcone - ECPv6.15.20//NONSGML v1.0//EN
CALSCALE:GREGORIAN
METHOD:PUBLISH
X-ORIGINAL-URL:https://bibliotecamonfalcone.it
X-WR-CALDESC:Eventi per Biblioteca Comunale di Monfalcone
REFRESH-INTERVAL;VALUE=DURATION:PT1H
X-Robots-Tag:noindex
X-PUBLISHED-TTL:PT1H
BEGIN:VTIMEZONE
TZID:Europe/Rome
BEGIN:DAYLIGHT
TZOFFSETFROM:+0100
TZOFFSETTO:+0200
TZNAME:CEST
DTSTART:20210328T010000
END:DAYLIGHT
BEGIN:STANDARD
TZOFFSETFROM:+0200
TZOFFSETTO:+0100
TZNAME:CET
DTSTART:20211031T010000
END:STANDARD
BEGIN:DAYLIGHT
TZOFFSETFROM:+0100
TZOFFSETTO:+0200
TZNAME:CEST
DTSTART:20220327T010000
END:DAYLIGHT
BEGIN:STANDARD
TZOFFSETFROM:+0200
TZOFFSETTO:+0100
TZNAME:CET
DTSTART:20221030T010000
END:STANDARD
BEGIN:DAYLIGHT
TZOFFSETFROM:+0100
TZOFFSETTO:+0200
TZNAME:CEST
DTSTART:20230326T010000
END:DAYLIGHT
BEGIN:STANDARD
TZOFFSETFROM:+0200
TZOFFSETTO:+0100
TZNAME:CET
DTSTART:20231029T010000
END:STANDARD
END:VTIMEZONE
BEGIN:VEVENT
DTSTART;TZID=Europe/Rome:20221203T103000
DTEND;TZID=Europe/Rome:20221203T103000
DTSTAMP:20260425T121836
CREATED:20230317T154230Z
LAST-MODIFIED:20230317T154521Z
UID:10000071-1670063400-1670063400@bibliotecamonfalcone.it
SUMMARY:All’ombra del salice
DESCRIPTION:I fantastici personaggi che animano le fiabe di Fabio\, con le belle illustrazioni degli studenti del Liceo Artistico Max Fabiani di Gorizia\, ci accompagnano in un magico viaggio dalla penna dell’autore alle pieghe sopite delle nostre fantasie. Fabio\, all’ombra del salice\, guarda e ascolta\, così facendo apre le porte di un mondo meraviglioso dove\, anche noi\, possiamo entrare.
URL:https://bibliotecamonfalcone.it/eventi/allombra-del-salice/
CATEGORIES:Presentazioni
ATTACH;FMTTYPE=image/jpeg:https://bibliotecamonfalcone.it/wp-content/uploads/2023/03/2022111899170.locandina-Morsut_page-0001.jpg
END:VEVENT
END:VCALENDAR