BEGIN:VCALENDAR
VERSION:2.0
PRODID:-//Biblioteca Comunale di Monfalcone - ECPv6.15.20//NONSGML v1.0//EN
CALSCALE:GREGORIAN
METHOD:PUBLISH
X-WR-CALNAME:Biblioteca Comunale di Monfalcone
X-ORIGINAL-URL:https://bibliotecamonfalcone.it
X-WR-CALDESC:Eventi per Biblioteca Comunale di Monfalcone
REFRESH-INTERVAL;VALUE=DURATION:PT1H
X-Robots-Tag:noindex
X-PUBLISHED-TTL:PT1H
BEGIN:VTIMEZONE
TZID:Europe/Rome
BEGIN:DAYLIGHT
TZOFFSETFROM:+0100
TZOFFSETTO:+0200
TZNAME:CEST
DTSTART:20210328T010000
END:DAYLIGHT
BEGIN:STANDARD
TZOFFSETFROM:+0200
TZOFFSETTO:+0100
TZNAME:CET
DTSTART:20211031T010000
END:STANDARD
BEGIN:DAYLIGHT
TZOFFSETFROM:+0100
TZOFFSETTO:+0200
TZNAME:CEST
DTSTART:20220327T010000
END:DAYLIGHT
BEGIN:STANDARD
TZOFFSETFROM:+0200
TZOFFSETTO:+0100
TZNAME:CET
DTSTART:20221030T010000
END:STANDARD
BEGIN:DAYLIGHT
TZOFFSETFROM:+0100
TZOFFSETTO:+0200
TZNAME:CEST
DTSTART:20230326T010000
END:DAYLIGHT
BEGIN:STANDARD
TZOFFSETFROM:+0200
TZOFFSETTO:+0100
TZNAME:CET
DTSTART:20231029T010000
END:STANDARD
END:VTIMEZONE
BEGIN:VEVENT
DTSTART;TZID=Europe/Rome:20220923T180000
DTEND;TZID=Europe/Rome:20220923T180000
DTSTAMP:20260425T172525
CREATED:20220907T103628Z
LAST-MODIFIED:20230321T103011Z
UID:10000003-1663956000-1663956000@bibliotecamonfalcone.it
SUMMARY:Due Cavalli
DESCRIPTION:Settembre 1983: quattro amici diciannovenni festeggiano la fine della scuola superiore con un viaggio in macchina in Grecia. Partono da Trieste a bordo di una Due Cavalli nuova di zecca\, senza un itinerario preciso e senza certezze sulla data del ritorno\, pieni di aspettative e desideri. Ma la vacanza – tra imprevisti\, rimpianti e ricordi che affiorano – si rivelerà molto diversa da come l’avevano immaginata.Sogni\, passioni\, manie e paure nell’età che precede le grandi scelte di vita\, in un racconto avvincente come un giallo.
URL:https://bibliotecamonfalcone.it/eventi/presentazione-del-romanzo-due-cavalli-di-francesco-antonini/
CATEGORIES:Presentazioni
ATTACH;FMTTYPE=image/jpeg:https://bibliotecamonfalcone.it/wp-content/uploads/2022/09/202272950240.locandina-Antonini_page-0001.jpg
END:VEVENT
BEGIN:VEVENT
DTSTART;TZID=Europe/Rome:20220928T180000
DTEND;TZID=Europe/Rome:20220928T180000
DTSTAMP:20260425T172525
CREATED:20230406T131320Z
LAST-MODIFIED:20230406T131943Z
UID:10000188-1664388000-1664388000@bibliotecamonfalcone.it
SUMMARY:Dal Golobar a Visinada\, da Porzûs a Ovaro
DESCRIPTION:Il nuovo libro di Antonio Russo analizza\, con testimonianze e documenti\, stragi e misfatti della seconda guerra mondiale avvenuti sul confine nord orientale\, da qualsiasi parte perpetrati\, dal Golobar a Visinada\, da Porzûs a Ovaro\, senza dimenticare Avasinis\, Bordano\, Forni\, Nimis\, Torlano\, Gorizia\, Monfalcone\, Trieste\, l’Istria e la Venezia Giulia; tragici episodi riportati alla luce in questo libro che tratta di barbarie per lo più ignorate dalla storiografia contemporanea o viste sotto una etichetta partitica che non corrisponde alle realtà dei fatti. E così l’incendio di Forni\, di Nimis\, Attimis\, Faedis\, la strage di Torlano\, le stragi di Avasinis e di Ovaro\, la mattanza dei Carabinieri a Malga Bala\, la nascita della Resistenza a Tarvisio\, il martirio di Giovanni Grillo\, i massacri e le deportazioni a Gorizia\, a Trieste. Tragici episodi il cui filo conduttore riconduce alla volontà di Tito e dei suoi seguaci\, tra cui parte del mondo partigiano locale\, di accaparrarsi parte dell’Italia o almeno del Friuli Venezia Giulia.
URL:https://bibliotecamonfalcone.it/eventi/dal-golobar-a-visinada-da-porzus-a-ovaro/
CATEGORIES:Presentazioni
ATTACH;FMTTYPE=image/jpeg:https://bibliotecamonfalcone.it/wp-content/uploads/2023/04/2022915168490.locandina-Russo_page-0001.jpg
END:VEVENT
END:VCALENDAR